BEGIN:VCALENDAR
VERSION:2.0
PRODID:-//Maple Dale County Club - ECPv6.15.18//NONSGML v1.0//EN
CALSCALE:GREGORIAN
METHOD:PUBLISH
X-ORIGINAL-URL:https://www.mapledalecc.com
X-WR-CALDESC:Events for Maple Dale County Club
REFRESH-INTERVAL;VALUE=DURATION:PT1H
X-Robots-Tag:noindex
X-PUBLISHED-TTL:PT1H
BEGIN:VTIMEZONE
TZID:America/New_York
BEGIN:DAYLIGHT
TZOFFSETFROM:-0500
TZOFFSETTO:-0400
TZNAME:EDT
DTSTART:20280312T070000
END:DAYLIGHT
BEGIN:STANDARD
TZOFFSETFROM:-0400
TZOFFSETTO:-0500
TZNAME:EST
DTSTART:20281105T060000
END:STANDARD
BEGIN:DAYLIGHT
TZOFFSETFROM:-0500
TZOFFSETTO:-0400
TZNAME:EDT
DTSTART:20290311T070000
END:DAYLIGHT
BEGIN:STANDARD
TZOFFSETFROM:-0400
TZOFFSETTO:-0500
TZNAME:EST
DTSTART:20291104T060000
END:STANDARD
BEGIN:DAYLIGHT
TZOFFSETFROM:-0500
TZOFFSETTO:-0400
TZNAME:EDT
DTSTART:20300310T070000
END:DAYLIGHT
BEGIN:STANDARD
TZOFFSETFROM:-0400
TZOFFSETTO:-0500
TZNAME:EST
DTSTART:20301103T060000
END:STANDARD
END:VTIMEZONE
BEGIN:VEVENT
DTSTART;TZID=America/New_York:20290221T110000
DTEND;TZID=America/New_York:20290221T160000
DTSTAMP:20260421T095136
CREATED:20250102T165944Z
LAST-MODIFIED:20250102T170059Z
UID:10003583-1866366000-1866384000@www.mapledalecc.com
SUMMARY:Lunch Available - Wednesday
DESCRIPTION:
URL:https://www.mapledalecc.com/event/lunch-available-wednesday-2/2029-02-21/
END:VEVENT
BEGIN:VEVENT
DTSTART;TZID=America/New_York:20290221T160000
DTEND;TZID=America/New_York:20290221T210000
DTSTAMP:20260421T095136
CREATED:20250102T171316Z
LAST-MODIFIED:20250801T142106Z
UID:10003844-1866384000-1866402000@www.mapledalecc.com
SUMMARY:Dinner Available - Wednesday
DESCRIPTION:
URL:https://www.mapledalecc.com/event/dinner-available-wednesday/2029-02-21/
END:VEVENT
BEGIN:VEVENT
DTSTART;TZID=America/New_York:20290222T110000
DTEND;TZID=America/New_York:20290222T160000
DTSTAMP:20260421T095136
CREATED:20241122T144554Z
LAST-MODIFIED:20241122T144554Z
UID:10002278-1866452400-1866470400@www.mapledalecc.com
SUMMARY:Lunch Available - Thursday
DESCRIPTION:
URL:https://www.mapledalecc.com/event/lunch-available-thursday/2029-02-22/
END:VEVENT
BEGIN:VEVENT
DTSTART;TZID=America/New_York:20290222T160000
DTEND;TZID=America/New_York:20290222T210000
DTSTAMP:20260421T095136
CREATED:20250123T203339Z
LAST-MODIFIED:20250513T182749Z
UID:10004370-1866470400-1866488400@www.mapledalecc.com
SUMMARY:Dinner Available - Thursday
DESCRIPTION:
URL:https://www.mapledalecc.com/event/throwback-thursdays/2029-02-22/
END:VEVENT
BEGIN:VEVENT
DTSTART;TZID=America/New_York:20290223T110000
DTEND;TZID=America/New_York:20290223T160000
DTSTAMP:20260421T095136
CREATED:20241214T172509Z
LAST-MODIFIED:20241214T172509Z
UID:10002799-1866538800-1866556800@www.mapledalecc.com
SUMMARY:Lunch Service - Friday
DESCRIPTION:
URL:https://www.mapledalecc.com/event/lunch-service-friday-2/2029-02-23/
END:VEVENT
BEGIN:VEVENT
DTSTART;TZID=America/New_York:20290223T160000
DTEND;TZID=America/New_York:20290223T210000
DTSTAMP:20260421T095136
CREATED:20250402T164304Z
LAST-MODIFIED:20250402T164712Z
UID:10005960-1866556800-1866574800@www.mapledalecc.com
SUMMARY:Dinner Available - Fridays
DESCRIPTION:Prime Rib Night
URL:https://www.mapledalecc.com/event/dinner-available-fridays/2029-02-23/
END:VEVENT
BEGIN:VEVENT
DTSTART;TZID=America/New_York:20290224T110000
DTEND;TZID=America/New_York:20290224T160000
DTSTAMP:20260421T095136
CREATED:20241122T145406Z
LAST-MODIFIED:20241122T145406Z
UID:10003062-1866625200-1866643200@www.mapledalecc.com
SUMMARY:Lunch Available - Saturday
DESCRIPTION:
URL:https://www.mapledalecc.com/event/lunch-available-saturday/2029-02-24/
END:VEVENT
BEGIN:VEVENT
DTSTART;TZID=America/New_York:20290224T160000
DTEND;TZID=America/New_York:20290224T210000
DTSTAMP:20260421T095136
CREATED:20250402T163840Z
LAST-MODIFIED:20250402T164016Z
UID:10005702-1866643200-1866661200@www.mapledalecc.com
SUMMARY:Dinner Available - Saturday
DESCRIPTION:
URL:https://www.mapledalecc.com/event/dinner-available-saturdays/2029-02-24/
END:VEVENT
BEGIN:VEVENT
DTSTART;TZID=America/New_York:20290225T110000
DTEND;TZID=America/New_York:20290225T160000
DTSTAMP:20260421T095136
CREATED:20241122T145940Z
LAST-MODIFIED:20241122T145940Z
UID:10003325-1866711600-1866729600@www.mapledalecc.com
SUMMARY:Lunch Available - Sunday
DESCRIPTION:
URL:https://www.mapledalecc.com/event/lunch-available-sunday/2029-02-25/
END:VEVENT
BEGIN:VEVENT
DTSTART;TZID=America/New_York:20290226T000000
DTEND;TZID=America/New_York:20290226T000000
DTSTAMP:20260421T095136
CREATED:20241001T203438Z
LAST-MODIFIED:20260331T204152Z
UID:10006764-1866758400-1866758400@www.mapledalecc.com
SUMMARY:Dining Room Closed
DESCRIPTION:No food service on Mondays or Tuesdays during the winter months. \n  \n 
URL:https://www.mapledalecc.com/event/dining-room-closed/2029-02-26/
END:VEVENT
BEGIN:VEVENT
DTSTART;TZID=America/New_York:20290228T110000
DTEND;TZID=America/New_York:20290228T160000
DTSTAMP:20260421T095136
CREATED:20250102T165944Z
LAST-MODIFIED:20250102T170059Z
UID:10003584-1866970800-1866988800@www.mapledalecc.com
SUMMARY:Lunch Available - Wednesday
DESCRIPTION:
URL:https://www.mapledalecc.com/event/lunch-available-wednesday-2/2029-02-28/
END:VEVENT
BEGIN:VEVENT
DTSTART;TZID=America/New_York:20290228T160000
DTEND;TZID=America/New_York:20290228T210000
DTSTAMP:20260421T095136
CREATED:20250102T171316Z
LAST-MODIFIED:20250801T142106Z
UID:10003845-1866988800-1867006800@www.mapledalecc.com
SUMMARY:Dinner Available - Wednesday
DESCRIPTION:
URL:https://www.mapledalecc.com/event/dinner-available-wednesday/2029-02-28/
END:VEVENT
BEGIN:VEVENT
DTSTART;TZID=America/New_York:20290301T110000
DTEND;TZID=America/New_York:20290301T160000
DTSTAMP:20260421T095136
CREATED:20241122T144554Z
LAST-MODIFIED:20241122T144554Z
UID:10002279-1867057200-1867075200@www.mapledalecc.com
SUMMARY:Lunch Available - Thursday
DESCRIPTION:
URL:https://www.mapledalecc.com/event/lunch-available-thursday/2029-03-01/
END:VEVENT
BEGIN:VEVENT
DTSTART;TZID=America/New_York:20290301T160000
DTEND;TZID=America/New_York:20290301T210000
DTSTAMP:20260421T095136
CREATED:20250123T203339Z
LAST-MODIFIED:20250513T182749Z
UID:10004371-1867075200-1867093200@www.mapledalecc.com
SUMMARY:Dinner Available - Thursday
DESCRIPTION:
URL:https://www.mapledalecc.com/event/throwback-thursdays/2029-03-01/
END:VEVENT
BEGIN:VEVENT
DTSTART;TZID=America/New_York:20290302T110000
DTEND;TZID=America/New_York:20290302T160000
DTSTAMP:20260421T095136
CREATED:20241214T172509Z
LAST-MODIFIED:20241214T172509Z
UID:10002800-1867143600-1867161600@www.mapledalecc.com
SUMMARY:Lunch Service - Friday
DESCRIPTION:
URL:https://www.mapledalecc.com/event/lunch-service-friday-2/2029-03-02/
END:VEVENT
BEGIN:VEVENT
DTSTART;TZID=America/New_York:20290302T160000
DTEND;TZID=America/New_York:20290302T210000
DTSTAMP:20260421T095136
CREATED:20250402T164304Z
LAST-MODIFIED:20250402T164712Z
UID:10005961-1867161600-1867179600@www.mapledalecc.com
SUMMARY:Dinner Available - Fridays
DESCRIPTION:Prime Rib Night
URL:https://www.mapledalecc.com/event/dinner-available-fridays/2029-03-02/
END:VEVENT
BEGIN:VEVENT
DTSTART;TZID=America/New_York:20290303T110000
DTEND;TZID=America/New_York:20290303T160000
DTSTAMP:20260421T095136
CREATED:20241122T145406Z
LAST-MODIFIED:20241122T145406Z
UID:10003063-1867230000-1867248000@www.mapledalecc.com
SUMMARY:Lunch Available - Saturday
DESCRIPTION:
URL:https://www.mapledalecc.com/event/lunch-available-saturday/2029-03-03/
END:VEVENT
BEGIN:VEVENT
DTSTART;TZID=America/New_York:20290303T160000
DTEND;TZID=America/New_York:20290303T210000
DTSTAMP:20260421T095136
CREATED:20250402T163840Z
LAST-MODIFIED:20250402T164016Z
UID:10005703-1867248000-1867266000@www.mapledalecc.com
SUMMARY:Dinner Available - Saturday
DESCRIPTION:
URL:https://www.mapledalecc.com/event/dinner-available-saturdays/2029-03-03/
END:VEVENT
BEGIN:VEVENT
DTSTART;TZID=America/New_York:20290304T110000
DTEND;TZID=America/New_York:20290304T160000
DTSTAMP:20260421T095136
CREATED:20241122T145940Z
LAST-MODIFIED:20241122T145940Z
UID:10003326-1867316400-1867334400@www.mapledalecc.com
SUMMARY:Lunch Available - Sunday
DESCRIPTION:
URL:https://www.mapledalecc.com/event/lunch-available-sunday/2029-03-04/
END:VEVENT
BEGIN:VEVENT
DTSTART;TZID=America/New_York:20290305T000000
DTEND;TZID=America/New_York:20290305T000000
DTSTAMP:20260421T095136
CREATED:20241001T203438Z
LAST-MODIFIED:20260331T204152Z
UID:10006766-1867363200-1867363200@www.mapledalecc.com
SUMMARY:Dining Room Closed
DESCRIPTION:No food service on Mondays or Tuesdays during the winter months. \n  \n 
URL:https://www.mapledalecc.com/event/dining-room-closed/2029-03-05/
END:VEVENT
BEGIN:VEVENT
DTSTART;TZID=America/New_York:20290307T110000
DTEND;TZID=America/New_York:20290307T160000
DTSTAMP:20260421T095136
CREATED:20250102T165944Z
LAST-MODIFIED:20250102T170059Z
UID:10003585-1867575600-1867593600@www.mapledalecc.com
SUMMARY:Lunch Available - Wednesday
DESCRIPTION:
URL:https://www.mapledalecc.com/event/lunch-available-wednesday-2/2029-03-07/
END:VEVENT
BEGIN:VEVENT
DTSTART;TZID=America/New_York:20290307T160000
DTEND;TZID=America/New_York:20290307T210000
DTSTAMP:20260421T095136
CREATED:20250102T171316Z
LAST-MODIFIED:20250801T142106Z
UID:10003846-1867593600-1867611600@www.mapledalecc.com
SUMMARY:Dinner Available - Wednesday
DESCRIPTION:
URL:https://www.mapledalecc.com/event/dinner-available-wednesday/2029-03-07/
END:VEVENT
BEGIN:VEVENT
DTSTART;TZID=America/New_York:20290308T110000
DTEND;TZID=America/New_York:20290308T160000
DTSTAMP:20260421T095136
CREATED:20241122T144554Z
LAST-MODIFIED:20241122T144554Z
UID:10002280-1867662000-1867680000@www.mapledalecc.com
SUMMARY:Lunch Available - Thursday
DESCRIPTION:
URL:https://www.mapledalecc.com/event/lunch-available-thursday/2029-03-08/
END:VEVENT
BEGIN:VEVENT
DTSTART;TZID=America/New_York:20290308T160000
DTEND;TZID=America/New_York:20290308T210000
DTSTAMP:20260421T095136
CREATED:20250123T203339Z
LAST-MODIFIED:20250513T182749Z
UID:10004372-1867680000-1867698000@www.mapledalecc.com
SUMMARY:Dinner Available - Thursday
DESCRIPTION:
URL:https://www.mapledalecc.com/event/throwback-thursdays/2029-03-08/
END:VEVENT
BEGIN:VEVENT
DTSTART;TZID=America/New_York:20290309T110000
DTEND;TZID=America/New_York:20290309T160000
DTSTAMP:20260421T095136
CREATED:20241214T172509Z
LAST-MODIFIED:20241214T172509Z
UID:10002801-1867748400-1867766400@www.mapledalecc.com
SUMMARY:Lunch Service - Friday
DESCRIPTION:
URL:https://www.mapledalecc.com/event/lunch-service-friday-2/2029-03-09/
END:VEVENT
BEGIN:VEVENT
DTSTART;TZID=America/New_York:20290309T160000
DTEND;TZID=America/New_York:20290309T210000
DTSTAMP:20260421T095136
CREATED:20250402T164304Z
LAST-MODIFIED:20250402T164712Z
UID:10005962-1867766400-1867784400@www.mapledalecc.com
SUMMARY:Dinner Available - Fridays
DESCRIPTION:Prime Rib Night
URL:https://www.mapledalecc.com/event/dinner-available-fridays/2029-03-09/
END:VEVENT
BEGIN:VEVENT
DTSTART;TZID=America/New_York:20290310T110000
DTEND;TZID=America/New_York:20290310T160000
DTSTAMP:20260421T095136
CREATED:20241122T145406Z
LAST-MODIFIED:20241122T145406Z
UID:10003064-1867834800-1867852800@www.mapledalecc.com
SUMMARY:Lunch Available - Saturday
DESCRIPTION:
URL:https://www.mapledalecc.com/event/lunch-available-saturday/2029-03-10/
END:VEVENT
BEGIN:VEVENT
DTSTART;TZID=America/New_York:20290310T160000
DTEND;TZID=America/New_York:20290310T210000
DTSTAMP:20260421T095136
CREATED:20250402T163840Z
LAST-MODIFIED:20250402T164016Z
UID:10005704-1867852800-1867870800@www.mapledalecc.com
SUMMARY:Dinner Available - Saturday
DESCRIPTION:
URL:https://www.mapledalecc.com/event/dinner-available-saturdays/2029-03-10/
END:VEVENT
BEGIN:VEVENT
DTSTART;TZID=America/New_York:20290311T110000
DTEND;TZID=America/New_York:20290311T160000
DTSTAMP:20260421T095136
CREATED:20241122T145940Z
LAST-MODIFIED:20241122T145940Z
UID:10003327-1867921200-1867939200@www.mapledalecc.com
SUMMARY:Lunch Available - Sunday
DESCRIPTION:
URL:https://www.mapledalecc.com/event/lunch-available-sunday/2029-03-11/
END:VEVENT
BEGIN:VEVENT
DTSTART;TZID=America/New_York:20290312T000000
DTEND;TZID=America/New_York:20290312T000000
DTSTAMP:20260421T095136
CREATED:20241001T203438Z
LAST-MODIFIED:20260331T204152Z
UID:10006768-1867968000-1867968000@www.mapledalecc.com
SUMMARY:Dining Room Closed
DESCRIPTION:No food service on Mondays or Tuesdays during the winter months. \n  \n 
URL:https://www.mapledalecc.com/event/dining-room-closed/2029-03-12/
END:VEVENT
END:VCALENDAR