BEGIN:VCALENDAR
VERSION:2.0
PRODID:-//Maple Dale County Club - ECPv6.15.18//NONSGML v1.0//EN
CALSCALE:GREGORIAN
METHOD:PUBLISH
X-WR-CALNAME:Maple Dale County Club
X-ORIGINAL-URL:https://www.mapledalecc.com
X-WR-CALDESC:Events for Maple Dale County Club
REFRESH-INTERVAL;VALUE=DURATION:PT1H
X-Robots-Tag:noindex
X-PUBLISHED-TTL:PT1H
BEGIN:VTIMEZONE
TZID:America/New_York
BEGIN:DAYLIGHT
TZOFFSETFROM:-0500
TZOFFSETTO:-0400
TZNAME:EDT
DTSTART:20270314T070000
END:DAYLIGHT
BEGIN:STANDARD
TZOFFSETFROM:-0400
TZOFFSETTO:-0500
TZNAME:EST
DTSTART:20271107T060000
END:STANDARD
BEGIN:DAYLIGHT
TZOFFSETFROM:-0500
TZOFFSETTO:-0400
TZNAME:EDT
DTSTART:20280312T070000
END:DAYLIGHT
BEGIN:STANDARD
TZOFFSETFROM:-0400
TZOFFSETTO:-0500
TZNAME:EST
DTSTART:20281105T060000
END:STANDARD
BEGIN:DAYLIGHT
TZOFFSETFROM:-0500
TZOFFSETTO:-0400
TZNAME:EDT
DTSTART:20290311T070000
END:DAYLIGHT
BEGIN:STANDARD
TZOFFSETFROM:-0400
TZOFFSETTO:-0500
TZNAME:EST
DTSTART:20291104T060000
END:STANDARD
END:VTIMEZONE
BEGIN:VEVENT
DTSTART;TZID=America/New_York:20280226T160000
DTEND;TZID=America/New_York:20280226T210000
DTSTAMP:20260421T011001
CREATED:20250402T163840Z
LAST-MODIFIED:20250402T164016Z
UID:10005650-1835193600-1835211600@www.mapledalecc.com
SUMMARY:Dinner Available - Saturday
DESCRIPTION:
URL:https://www.mapledalecc.com/event/dinner-available-saturdays/2028-02-26/
END:VEVENT
BEGIN:VEVENT
DTSTART;TZID=America/New_York:20280304T160000
DTEND;TZID=America/New_York:20280304T210000
DTSTAMP:20260421T011001
CREATED:20250402T163840Z
LAST-MODIFIED:20250402T164016Z
UID:10005651-1835798400-1835816400@www.mapledalecc.com
SUMMARY:Dinner Available - Saturday
DESCRIPTION:
URL:https://www.mapledalecc.com/event/dinner-available-saturdays/2028-03-04/
END:VEVENT
BEGIN:VEVENT
DTSTART;TZID=America/New_York:20280311T160000
DTEND;TZID=America/New_York:20280311T210000
DTSTAMP:20260421T011001
CREATED:20250402T163840Z
LAST-MODIFIED:20250402T164016Z
UID:10005652-1836403200-1836421200@www.mapledalecc.com
SUMMARY:Dinner Available - Saturday
DESCRIPTION:
URL:https://www.mapledalecc.com/event/dinner-available-saturdays/2028-03-11/
END:VEVENT
BEGIN:VEVENT
DTSTART;TZID=America/New_York:20280318T160000
DTEND;TZID=America/New_York:20280318T210000
DTSTAMP:20260421T011001
CREATED:20250402T163840Z
LAST-MODIFIED:20250402T164016Z
UID:10005653-1837008000-1837026000@www.mapledalecc.com
SUMMARY:Dinner Available - Saturday
DESCRIPTION:
URL:https://www.mapledalecc.com/event/dinner-available-saturdays/2028-03-18/
END:VEVENT
BEGIN:VEVENT
DTSTART;TZID=America/New_York:20280325T160000
DTEND;TZID=America/New_York:20280325T210000
DTSTAMP:20260421T011001
CREATED:20250402T163840Z
LAST-MODIFIED:20250402T164016Z
UID:10005654-1837612800-1837630800@www.mapledalecc.com
SUMMARY:Dinner Available - Saturday
DESCRIPTION:
URL:https://www.mapledalecc.com/event/dinner-available-saturdays/2028-03-25/
END:VEVENT
BEGIN:VEVENT
DTSTART;TZID=America/New_York:20280401T160000
DTEND;TZID=America/New_York:20280401T210000
DTSTAMP:20260421T011001
CREATED:20250402T163840Z
LAST-MODIFIED:20250402T164016Z
UID:10005655-1838217600-1838235600@www.mapledalecc.com
SUMMARY:Dinner Available - Saturday
DESCRIPTION:
URL:https://www.mapledalecc.com/event/dinner-available-saturdays/2028-04-01/
END:VEVENT
BEGIN:VEVENT
DTSTART;TZID=America/New_York:20280408T160000
DTEND;TZID=America/New_York:20280408T210000
DTSTAMP:20260421T011001
CREATED:20250402T163840Z
LAST-MODIFIED:20250402T164016Z
UID:10005656-1838822400-1838840400@www.mapledalecc.com
SUMMARY:Dinner Available - Saturday
DESCRIPTION:
URL:https://www.mapledalecc.com/event/dinner-available-saturdays/2028-04-08/
END:VEVENT
BEGIN:VEVENT
DTSTART;TZID=America/New_York:20280415T160000
DTEND;TZID=America/New_York:20280415T210000
DTSTAMP:20260421T011001
CREATED:20250402T163840Z
LAST-MODIFIED:20250402T164016Z
UID:10005657-1839427200-1839445200@www.mapledalecc.com
SUMMARY:Dinner Available - Saturday
DESCRIPTION:
URL:https://www.mapledalecc.com/event/dinner-available-saturdays/2028-04-15/
END:VEVENT
BEGIN:VEVENT
DTSTART;TZID=America/New_York:20280422T160000
DTEND;TZID=America/New_York:20280422T210000
DTSTAMP:20260421T011001
CREATED:20250402T163840Z
LAST-MODIFIED:20250402T164016Z
UID:10005658-1840032000-1840050000@www.mapledalecc.com
SUMMARY:Dinner Available - Saturday
DESCRIPTION:
URL:https://www.mapledalecc.com/event/dinner-available-saturdays/2028-04-22/
END:VEVENT
BEGIN:VEVENT
DTSTART;TZID=America/New_York:20280429T160000
DTEND;TZID=America/New_York:20280429T210000
DTSTAMP:20260421T011001
CREATED:20250402T163840Z
LAST-MODIFIED:20250402T164016Z
UID:10005659-1840636800-1840654800@www.mapledalecc.com
SUMMARY:Dinner Available - Saturday
DESCRIPTION:
URL:https://www.mapledalecc.com/event/dinner-available-saturdays/2028-04-29/
END:VEVENT
BEGIN:VEVENT
DTSTART;TZID=America/New_York:20280506T160000
DTEND;TZID=America/New_York:20280506T210000
DTSTAMP:20260421T011001
CREATED:20250402T163840Z
LAST-MODIFIED:20250402T164016Z
UID:10005660-1841241600-1841259600@www.mapledalecc.com
SUMMARY:Dinner Available - Saturday
DESCRIPTION:
URL:https://www.mapledalecc.com/event/dinner-available-saturdays/2028-05-06/
END:VEVENT
BEGIN:VEVENT
DTSTART;TZID=America/New_York:20280513T160000
DTEND;TZID=America/New_York:20280513T210000
DTSTAMP:20260421T011001
CREATED:20250402T163840Z
LAST-MODIFIED:20250402T164016Z
UID:10005661-1841846400-1841864400@www.mapledalecc.com
SUMMARY:Dinner Available - Saturday
DESCRIPTION:
URL:https://www.mapledalecc.com/event/dinner-available-saturdays/2028-05-13/
END:VEVENT
BEGIN:VEVENT
DTSTART;TZID=America/New_York:20280520T160000
DTEND;TZID=America/New_York:20280520T210000
DTSTAMP:20260421T011001
CREATED:20250402T163840Z
LAST-MODIFIED:20250402T164016Z
UID:10005662-1842451200-1842469200@www.mapledalecc.com
SUMMARY:Dinner Available - Saturday
DESCRIPTION:
URL:https://www.mapledalecc.com/event/dinner-available-saturdays/2028-05-20/
END:VEVENT
BEGIN:VEVENT
DTSTART;TZID=America/New_York:20280527T160000
DTEND;TZID=America/New_York:20280527T210000
DTSTAMP:20260421T011001
CREATED:20250402T163840Z
LAST-MODIFIED:20250402T164016Z
UID:10005663-1843056000-1843074000@www.mapledalecc.com
SUMMARY:Dinner Available - Saturday
DESCRIPTION:
URL:https://www.mapledalecc.com/event/dinner-available-saturdays/2028-05-27/
END:VEVENT
BEGIN:VEVENT
DTSTART;TZID=America/New_York:20280603T160000
DTEND;TZID=America/New_York:20280603T210000
DTSTAMP:20260421T011001
CREATED:20250402T163840Z
LAST-MODIFIED:20250402T164016Z
UID:10005664-1843660800-1843678800@www.mapledalecc.com
SUMMARY:Dinner Available - Saturday
DESCRIPTION:
URL:https://www.mapledalecc.com/event/dinner-available-saturdays/2028-06-03/
END:VEVENT
BEGIN:VEVENT
DTSTART;TZID=America/New_York:20280610T160000
DTEND;TZID=America/New_York:20280610T210000
DTSTAMP:20260421T011001
CREATED:20250402T163840Z
LAST-MODIFIED:20250402T164016Z
UID:10005665-1844265600-1844283600@www.mapledalecc.com
SUMMARY:Dinner Available - Saturday
DESCRIPTION:
URL:https://www.mapledalecc.com/event/dinner-available-saturdays/2028-06-10/
END:VEVENT
BEGIN:VEVENT
DTSTART;TZID=America/New_York:20280617T160000
DTEND;TZID=America/New_York:20280617T210000
DTSTAMP:20260421T011001
CREATED:20250402T163840Z
LAST-MODIFIED:20250402T164016Z
UID:10005666-1844870400-1844888400@www.mapledalecc.com
SUMMARY:Dinner Available - Saturday
DESCRIPTION:
URL:https://www.mapledalecc.com/event/dinner-available-saturdays/2028-06-17/
END:VEVENT
BEGIN:VEVENT
DTSTART;TZID=America/New_York:20280624T160000
DTEND;TZID=America/New_York:20280624T210000
DTSTAMP:20260421T011001
CREATED:20250402T163840Z
LAST-MODIFIED:20250402T164016Z
UID:10005667-1845475200-1845493200@www.mapledalecc.com
SUMMARY:Dinner Available - Saturday
DESCRIPTION:
URL:https://www.mapledalecc.com/event/dinner-available-saturdays/2028-06-24/
END:VEVENT
BEGIN:VEVENT
DTSTART;TZID=America/New_York:20280701T160000
DTEND;TZID=America/New_York:20280701T210000
DTSTAMP:20260421T011001
CREATED:20250402T163840Z
LAST-MODIFIED:20250402T164016Z
UID:10005668-1846080000-1846098000@www.mapledalecc.com
SUMMARY:Dinner Available - Saturday
DESCRIPTION:
URL:https://www.mapledalecc.com/event/dinner-available-saturdays/2028-07-01/
END:VEVENT
BEGIN:VEVENT
DTSTART;TZID=America/New_York:20280708T160000
DTEND;TZID=America/New_York:20280708T210000
DTSTAMP:20260421T011001
CREATED:20250402T163840Z
LAST-MODIFIED:20250402T164016Z
UID:10005669-1846684800-1846702800@www.mapledalecc.com
SUMMARY:Dinner Available - Saturday
DESCRIPTION:
URL:https://www.mapledalecc.com/event/dinner-available-saturdays/2028-07-08/
END:VEVENT
BEGIN:VEVENT
DTSTART;TZID=America/New_York:20280715T160000
DTEND;TZID=America/New_York:20280715T210000
DTSTAMP:20260421T011002
CREATED:20250402T163840Z
LAST-MODIFIED:20250402T164016Z
UID:10005670-1847289600-1847307600@www.mapledalecc.com
SUMMARY:Dinner Available - Saturday
DESCRIPTION:
URL:https://www.mapledalecc.com/event/dinner-available-saturdays/2028-07-15/
END:VEVENT
BEGIN:VEVENT
DTSTART;TZID=America/New_York:20280722T160000
DTEND;TZID=America/New_York:20280722T210000
DTSTAMP:20260421T011002
CREATED:20250402T163840Z
LAST-MODIFIED:20250402T164016Z
UID:10005671-1847894400-1847912400@www.mapledalecc.com
SUMMARY:Dinner Available - Saturday
DESCRIPTION:
URL:https://www.mapledalecc.com/event/dinner-available-saturdays/2028-07-22/
END:VEVENT
BEGIN:VEVENT
DTSTART;TZID=America/New_York:20280729T160000
DTEND;TZID=America/New_York:20280729T210000
DTSTAMP:20260421T011002
CREATED:20250402T163840Z
LAST-MODIFIED:20250402T164016Z
UID:10005672-1848499200-1848517200@www.mapledalecc.com
SUMMARY:Dinner Available - Saturday
DESCRIPTION:
URL:https://www.mapledalecc.com/event/dinner-available-saturdays/2028-07-29/
END:VEVENT
BEGIN:VEVENT
DTSTART;TZID=America/New_York:20280805T160000
DTEND;TZID=America/New_York:20280805T210000
DTSTAMP:20260421T011002
CREATED:20250402T163840Z
LAST-MODIFIED:20250402T164016Z
UID:10005673-1849104000-1849122000@www.mapledalecc.com
SUMMARY:Dinner Available - Saturday
DESCRIPTION:
URL:https://www.mapledalecc.com/event/dinner-available-saturdays/2028-08-05/
END:VEVENT
BEGIN:VEVENT
DTSTART;TZID=America/New_York:20280812T160000
DTEND;TZID=America/New_York:20280812T210000
DTSTAMP:20260421T011002
CREATED:20250402T163840Z
LAST-MODIFIED:20250402T164016Z
UID:10005674-1849708800-1849726800@www.mapledalecc.com
SUMMARY:Dinner Available - Saturday
DESCRIPTION:
URL:https://www.mapledalecc.com/event/dinner-available-saturdays/2028-08-12/
END:VEVENT
BEGIN:VEVENT
DTSTART;TZID=America/New_York:20280819T160000
DTEND;TZID=America/New_York:20280819T210000
DTSTAMP:20260421T011002
CREATED:20250402T163840Z
LAST-MODIFIED:20250402T164016Z
UID:10005675-1850313600-1850331600@www.mapledalecc.com
SUMMARY:Dinner Available - Saturday
DESCRIPTION:
URL:https://www.mapledalecc.com/event/dinner-available-saturdays/2028-08-19/
END:VEVENT
BEGIN:VEVENT
DTSTART;TZID=America/New_York:20280826T160000
DTEND;TZID=America/New_York:20280826T210000
DTSTAMP:20260421T011002
CREATED:20250402T163840Z
LAST-MODIFIED:20250402T164016Z
UID:10005676-1850918400-1850936400@www.mapledalecc.com
SUMMARY:Dinner Available - Saturday
DESCRIPTION:
URL:https://www.mapledalecc.com/event/dinner-available-saturdays/2028-08-26/
END:VEVENT
BEGIN:VEVENT
DTSTART;TZID=America/New_York:20280902T160000
DTEND;TZID=America/New_York:20280902T210000
DTSTAMP:20260421T011002
CREATED:20250402T163840Z
LAST-MODIFIED:20250402T164016Z
UID:10005677-1851523200-1851541200@www.mapledalecc.com
SUMMARY:Dinner Available - Saturday
DESCRIPTION:
URL:https://www.mapledalecc.com/event/dinner-available-saturdays/2028-09-02/
END:VEVENT
BEGIN:VEVENT
DTSTART;TZID=America/New_York:20280909T160000
DTEND;TZID=America/New_York:20280909T210000
DTSTAMP:20260421T011002
CREATED:20250402T163840Z
LAST-MODIFIED:20250402T164016Z
UID:10005678-1852128000-1852146000@www.mapledalecc.com
SUMMARY:Dinner Available - Saturday
DESCRIPTION:
URL:https://www.mapledalecc.com/event/dinner-available-saturdays/2028-09-09/
END:VEVENT
BEGIN:VEVENT
DTSTART;TZID=America/New_York:20280916T160000
DTEND;TZID=America/New_York:20280916T210000
DTSTAMP:20260421T011002
CREATED:20250402T163840Z
LAST-MODIFIED:20250402T164016Z
UID:10005679-1852732800-1852750800@www.mapledalecc.com
SUMMARY:Dinner Available - Saturday
DESCRIPTION:
URL:https://www.mapledalecc.com/event/dinner-available-saturdays/2028-09-16/
END:VEVENT
END:VCALENDAR