BEGIN:VCALENDAR
VERSION:2.0
PRODID:-//Maple Dale County Club - ECPv6.15.18//NONSGML v1.0//EN
CALSCALE:GREGORIAN
METHOD:PUBLISH
X-ORIGINAL-URL:https://www.mapledalecc.com
X-WR-CALDESC:Events for Maple Dale County Club
REFRESH-INTERVAL;VALUE=DURATION:PT1H
X-Robots-Tag:noindex
X-PUBLISHED-TTL:PT1H
BEGIN:VTIMEZONE
TZID:America/New_York
BEGIN:DAYLIGHT
TZOFFSETFROM:-0500
TZOFFSETTO:-0400
TZNAME:EDT
DTSTART:20260308T070000
END:DAYLIGHT
BEGIN:STANDARD
TZOFFSETFROM:-0400
TZOFFSETTO:-0500
TZNAME:EST
DTSTART:20261101T060000
END:STANDARD
BEGIN:DAYLIGHT
TZOFFSETFROM:-0500
TZOFFSETTO:-0400
TZNAME:EDT
DTSTART:20270314T070000
END:DAYLIGHT
BEGIN:STANDARD
TZOFFSETFROM:-0400
TZOFFSETTO:-0500
TZNAME:EST
DTSTART:20271107T060000
END:STANDARD
BEGIN:DAYLIGHT
TZOFFSETFROM:-0500
TZOFFSETTO:-0400
TZNAME:EDT
DTSTART:20280312T070000
END:DAYLIGHT
BEGIN:STANDARD
TZOFFSETFROM:-0400
TZOFFSETTO:-0500
TZNAME:EST
DTSTART:20281105T060000
END:STANDARD
BEGIN:DAYLIGHT
TZOFFSETFROM:-0500
TZOFFSETTO:-0400
TZNAME:EDT
DTSTART:20290311T070000
END:DAYLIGHT
BEGIN:STANDARD
TZOFFSETFROM:-0400
TZOFFSETTO:-0500
TZNAME:EST
DTSTART:20291104T060000
END:STANDARD
END:VTIMEZONE
BEGIN:VEVENT
DTSTART;TZID=America/New_York:20271205T110000
DTEND;TZID=America/New_York:20271205T160000
DTSTAMP:20260420T061211
CREATED:20241122T145940Z
LAST-MODIFIED:20241122T145940Z
UID:10003261-1828004400-1828022400@www.mapledalecc.com
SUMMARY:Lunch Available - Sunday
DESCRIPTION:
URL:https://www.mapledalecc.com/event/lunch-available-sunday/2027-12-05/
END:VEVENT
BEGIN:VEVENT
DTSTART;TZID=America/New_York:20271212T110000
DTEND;TZID=America/New_York:20271212T160000
DTSTAMP:20260420T061211
CREATED:20241122T145940Z
LAST-MODIFIED:20241122T145940Z
UID:10003262-1828609200-1828627200@www.mapledalecc.com
SUMMARY:Lunch Available - Sunday
DESCRIPTION:
URL:https://www.mapledalecc.com/event/lunch-available-sunday/2027-12-12/
END:VEVENT
BEGIN:VEVENT
DTSTART;TZID=America/New_York:20271219T110000
DTEND;TZID=America/New_York:20271219T160000
DTSTAMP:20260420T061211
CREATED:20241122T145940Z
LAST-MODIFIED:20241122T145940Z
UID:10003263-1829214000-1829232000@www.mapledalecc.com
SUMMARY:Lunch Available - Sunday
DESCRIPTION:
URL:https://www.mapledalecc.com/event/lunch-available-sunday/2027-12-19/
END:VEVENT
BEGIN:VEVENT
DTSTART;TZID=America/New_York:20271226T110000
DTEND;TZID=America/New_York:20271226T160000
DTSTAMP:20260420T061211
CREATED:20241122T145940Z
LAST-MODIFIED:20241122T145940Z
UID:10003264-1829818800-1829836800@www.mapledalecc.com
SUMMARY:Lunch Available - Sunday
DESCRIPTION:
URL:https://www.mapledalecc.com/event/lunch-available-sunday/2027-12-26/
END:VEVENT
BEGIN:VEVENT
DTSTART;TZID=America/New_York:20280102T110000
DTEND;TZID=America/New_York:20280102T160000
DTSTAMP:20260420T061211
CREATED:20241122T145940Z
LAST-MODIFIED:20241122T145940Z
UID:10003265-1830423600-1830441600@www.mapledalecc.com
SUMMARY:Lunch Available - Sunday
DESCRIPTION:
URL:https://www.mapledalecc.com/event/lunch-available-sunday/2028-01-02/
END:VEVENT
BEGIN:VEVENT
DTSTART;TZID=America/New_York:20280109T110000
DTEND;TZID=America/New_York:20280109T160000
DTSTAMP:20260420T061211
CREATED:20241122T145940Z
LAST-MODIFIED:20241122T145940Z
UID:10003266-1831028400-1831046400@www.mapledalecc.com
SUMMARY:Lunch Available - Sunday
DESCRIPTION:
URL:https://www.mapledalecc.com/event/lunch-available-sunday/2028-01-09/
END:VEVENT
BEGIN:VEVENT
DTSTART;TZID=America/New_York:20280116T110000
DTEND;TZID=America/New_York:20280116T160000
DTSTAMP:20260420T061211
CREATED:20241122T145940Z
LAST-MODIFIED:20241122T145940Z
UID:10003267-1831633200-1831651200@www.mapledalecc.com
SUMMARY:Lunch Available - Sunday
DESCRIPTION:
URL:https://www.mapledalecc.com/event/lunch-available-sunday/2028-01-16/
END:VEVENT
BEGIN:VEVENT
DTSTART;TZID=America/New_York:20280123T110000
DTEND;TZID=America/New_York:20280123T160000
DTSTAMP:20260420T061211
CREATED:20241122T145940Z
LAST-MODIFIED:20241122T145940Z
UID:10003268-1832238000-1832256000@www.mapledalecc.com
SUMMARY:Lunch Available - Sunday
DESCRIPTION:
URL:https://www.mapledalecc.com/event/lunch-available-sunday/2028-01-23/
END:VEVENT
BEGIN:VEVENT
DTSTART;TZID=America/New_York:20280130T110000
DTEND;TZID=America/New_York:20280130T160000
DTSTAMP:20260420T061211
CREATED:20241122T145940Z
LAST-MODIFIED:20241122T145940Z
UID:10003269-1832842800-1832860800@www.mapledalecc.com
SUMMARY:Lunch Available - Sunday
DESCRIPTION:
URL:https://www.mapledalecc.com/event/lunch-available-sunday/2028-01-30/
END:VEVENT
BEGIN:VEVENT
DTSTART;TZID=America/New_York:20280206T110000
DTEND;TZID=America/New_York:20280206T160000
DTSTAMP:20260420T061211
CREATED:20241122T145940Z
LAST-MODIFIED:20241122T145940Z
UID:10003270-1833447600-1833465600@www.mapledalecc.com
SUMMARY:Lunch Available - Sunday
DESCRIPTION:
URL:https://www.mapledalecc.com/event/lunch-available-sunday/2028-02-06/
END:VEVENT
BEGIN:VEVENT
DTSTART;TZID=America/New_York:20280213T110000
DTEND;TZID=America/New_York:20280213T160000
DTSTAMP:20260420T061211
CREATED:20241122T145940Z
LAST-MODIFIED:20241122T145940Z
UID:10003271-1834052400-1834070400@www.mapledalecc.com
SUMMARY:Lunch Available - Sunday
DESCRIPTION:
URL:https://www.mapledalecc.com/event/lunch-available-sunday/2028-02-13/
END:VEVENT
BEGIN:VEVENT
DTSTART;TZID=America/New_York:20280220T110000
DTEND;TZID=America/New_York:20280220T160000
DTSTAMP:20260420T061211
CREATED:20241122T145940Z
LAST-MODIFIED:20241122T145940Z
UID:10003272-1834657200-1834675200@www.mapledalecc.com
SUMMARY:Lunch Available - Sunday
DESCRIPTION:
URL:https://www.mapledalecc.com/event/lunch-available-sunday/2028-02-20/
END:VEVENT
BEGIN:VEVENT
DTSTART;TZID=America/New_York:20280227T110000
DTEND;TZID=America/New_York:20280227T160000
DTSTAMP:20260420T061211
CREATED:20241122T145940Z
LAST-MODIFIED:20241122T145940Z
UID:10003273-1835262000-1835280000@www.mapledalecc.com
SUMMARY:Lunch Available - Sunday
DESCRIPTION:
URL:https://www.mapledalecc.com/event/lunch-available-sunday/2028-02-27/
END:VEVENT
BEGIN:VEVENT
DTSTART;TZID=America/New_York:20280305T110000
DTEND;TZID=America/New_York:20280305T160000
DTSTAMP:20260420T061211
CREATED:20241122T145940Z
LAST-MODIFIED:20241122T145940Z
UID:10003274-1835866800-1835884800@www.mapledalecc.com
SUMMARY:Lunch Available - Sunday
DESCRIPTION:
URL:https://www.mapledalecc.com/event/lunch-available-sunday/2028-03-05/
END:VEVENT
BEGIN:VEVENT
DTSTART;TZID=America/New_York:20280312T110000
DTEND;TZID=America/New_York:20280312T160000
DTSTAMP:20260420T061211
CREATED:20241122T145940Z
LAST-MODIFIED:20241122T145940Z
UID:10003275-1836471600-1836489600@www.mapledalecc.com
SUMMARY:Lunch Available - Sunday
DESCRIPTION:
URL:https://www.mapledalecc.com/event/lunch-available-sunday/2028-03-12/
END:VEVENT
BEGIN:VEVENT
DTSTART;TZID=America/New_York:20280319T110000
DTEND;TZID=America/New_York:20280319T160000
DTSTAMP:20260420T061211
CREATED:20241122T145940Z
LAST-MODIFIED:20241122T145940Z
UID:10003276-1837076400-1837094400@www.mapledalecc.com
SUMMARY:Lunch Available - Sunday
DESCRIPTION:
URL:https://www.mapledalecc.com/event/lunch-available-sunday/2028-03-19/
END:VEVENT
BEGIN:VEVENT
DTSTART;TZID=America/New_York:20280326T110000
DTEND;TZID=America/New_York:20280326T160000
DTSTAMP:20260420T061211
CREATED:20241122T145940Z
LAST-MODIFIED:20241122T145940Z
UID:10003277-1837681200-1837699200@www.mapledalecc.com
SUMMARY:Lunch Available - Sunday
DESCRIPTION:
URL:https://www.mapledalecc.com/event/lunch-available-sunday/2028-03-26/
END:VEVENT
BEGIN:VEVENT
DTSTART;TZID=America/New_York:20280402T110000
DTEND;TZID=America/New_York:20280402T160000
DTSTAMP:20260420T061211
CREATED:20241122T145940Z
LAST-MODIFIED:20241122T145940Z
UID:10003278-1838286000-1838304000@www.mapledalecc.com
SUMMARY:Lunch Available - Sunday
DESCRIPTION:
URL:https://www.mapledalecc.com/event/lunch-available-sunday/2028-04-02/
END:VEVENT
BEGIN:VEVENT
DTSTART;TZID=America/New_York:20280409T110000
DTEND;TZID=America/New_York:20280409T160000
DTSTAMP:20260420T061211
CREATED:20241122T145940Z
LAST-MODIFIED:20241122T145940Z
UID:10003279-1838890800-1838908800@www.mapledalecc.com
SUMMARY:Lunch Available - Sunday
DESCRIPTION:
URL:https://www.mapledalecc.com/event/lunch-available-sunday/2028-04-09/
END:VEVENT
BEGIN:VEVENT
DTSTART;TZID=America/New_York:20280416T110000
DTEND;TZID=America/New_York:20280416T160000
DTSTAMP:20260420T061211
CREATED:20241122T145940Z
LAST-MODIFIED:20241122T145940Z
UID:10003280-1839495600-1839513600@www.mapledalecc.com
SUMMARY:Lunch Available - Sunday
DESCRIPTION:
URL:https://www.mapledalecc.com/event/lunch-available-sunday/2028-04-16/
END:VEVENT
BEGIN:VEVENT
DTSTART;TZID=America/New_York:20280423T110000
DTEND;TZID=America/New_York:20280423T160000
DTSTAMP:20260420T061211
CREATED:20241122T145940Z
LAST-MODIFIED:20241122T145940Z
UID:10003281-1840100400-1840118400@www.mapledalecc.com
SUMMARY:Lunch Available - Sunday
DESCRIPTION:
URL:https://www.mapledalecc.com/event/lunch-available-sunday/2028-04-23/
END:VEVENT
BEGIN:VEVENT
DTSTART;TZID=America/New_York:20280430T110000
DTEND;TZID=America/New_York:20280430T160000
DTSTAMP:20260420T061211
CREATED:20241122T145940Z
LAST-MODIFIED:20241122T145940Z
UID:10003282-1840705200-1840723200@www.mapledalecc.com
SUMMARY:Lunch Available - Sunday
DESCRIPTION:
URL:https://www.mapledalecc.com/event/lunch-available-sunday/2028-04-30/
END:VEVENT
BEGIN:VEVENT
DTSTART;TZID=America/New_York:20280507T110000
DTEND;TZID=America/New_York:20280507T160000
DTSTAMP:20260420T061211
CREATED:20241122T145940Z
LAST-MODIFIED:20241122T145940Z
UID:10003283-1841310000-1841328000@www.mapledalecc.com
SUMMARY:Lunch Available - Sunday
DESCRIPTION:
URL:https://www.mapledalecc.com/event/lunch-available-sunday/2028-05-07/
END:VEVENT
BEGIN:VEVENT
DTSTART;TZID=America/New_York:20280514T110000
DTEND;TZID=America/New_York:20280514T160000
DTSTAMP:20260420T061211
CREATED:20241122T145940Z
LAST-MODIFIED:20241122T145940Z
UID:10003284-1841914800-1841932800@www.mapledalecc.com
SUMMARY:Lunch Available - Sunday
DESCRIPTION:
URL:https://www.mapledalecc.com/event/lunch-available-sunday/2028-05-14/
END:VEVENT
BEGIN:VEVENT
DTSTART;TZID=America/New_York:20280521T110000
DTEND;TZID=America/New_York:20280521T160000
DTSTAMP:20260420T061211
CREATED:20241122T145940Z
LAST-MODIFIED:20241122T145940Z
UID:10003285-1842519600-1842537600@www.mapledalecc.com
SUMMARY:Lunch Available - Sunday
DESCRIPTION:
URL:https://www.mapledalecc.com/event/lunch-available-sunday/2028-05-21/
END:VEVENT
BEGIN:VEVENT
DTSTART;TZID=America/New_York:20280528T110000
DTEND;TZID=America/New_York:20280528T160000
DTSTAMP:20260420T061211
CREATED:20241122T145940Z
LAST-MODIFIED:20241122T145940Z
UID:10003286-1843124400-1843142400@www.mapledalecc.com
SUMMARY:Lunch Available - Sunday
DESCRIPTION:
URL:https://www.mapledalecc.com/event/lunch-available-sunday/2028-05-28/
END:VEVENT
BEGIN:VEVENT
DTSTART;TZID=America/New_York:20280604T110000
DTEND;TZID=America/New_York:20280604T160000
DTSTAMP:20260420T061211
CREATED:20241122T145940Z
LAST-MODIFIED:20241122T145940Z
UID:10003287-1843729200-1843747200@www.mapledalecc.com
SUMMARY:Lunch Available - Sunday
DESCRIPTION:
URL:https://www.mapledalecc.com/event/lunch-available-sunday/2028-06-04/
END:VEVENT
BEGIN:VEVENT
DTSTART;TZID=America/New_York:20280611T110000
DTEND;TZID=America/New_York:20280611T160000
DTSTAMP:20260420T061211
CREATED:20241122T145940Z
LAST-MODIFIED:20241122T145940Z
UID:10003288-1844334000-1844352000@www.mapledalecc.com
SUMMARY:Lunch Available - Sunday
DESCRIPTION:
URL:https://www.mapledalecc.com/event/lunch-available-sunday/2028-06-11/
END:VEVENT
BEGIN:VEVENT
DTSTART;TZID=America/New_York:20280618T110000
DTEND;TZID=America/New_York:20280618T160000
DTSTAMP:20260420T061211
CREATED:20241122T145940Z
LAST-MODIFIED:20241122T145940Z
UID:10003289-1844938800-1844956800@www.mapledalecc.com
SUMMARY:Lunch Available - Sunday
DESCRIPTION:
URL:https://www.mapledalecc.com/event/lunch-available-sunday/2028-06-18/
END:VEVENT
BEGIN:VEVENT
DTSTART;TZID=America/New_York:20280625T110000
DTEND;TZID=America/New_York:20280625T160000
DTSTAMP:20260420T061211
CREATED:20241122T145940Z
LAST-MODIFIED:20241122T145940Z
UID:10003290-1845543600-1845561600@www.mapledalecc.com
SUMMARY:Lunch Available - Sunday
DESCRIPTION:
URL:https://www.mapledalecc.com/event/lunch-available-sunday/2028-06-25/
END:VEVENT
END:VCALENDAR