BEGIN:VCALENDAR
VERSION:2.0
PRODID:-//Maple Dale County Club - ECPv6.15.18//NONSGML v1.0//EN
CALSCALE:GREGORIAN
METHOD:PUBLISH
X-WR-CALNAME:Maple Dale County Club
X-ORIGINAL-URL:https://www.mapledalecc.com
X-WR-CALDESC:Events for Maple Dale County Club
REFRESH-INTERVAL;VALUE=DURATION:PT1H
X-Robots-Tag:noindex
X-PUBLISHED-TTL:PT1H
BEGIN:VTIMEZONE
TZID:America/New_York
BEGIN:DAYLIGHT
TZOFFSETFROM:-0500
TZOFFSETTO:-0400
TZNAME:EDT
DTSTART:20260308T070000
END:DAYLIGHT
BEGIN:STANDARD
TZOFFSETFROM:-0400
TZOFFSETTO:-0500
TZNAME:EST
DTSTART:20261101T060000
END:STANDARD
BEGIN:DAYLIGHT
TZOFFSETFROM:-0500
TZOFFSETTO:-0400
TZNAME:EDT
DTSTART:20270314T070000
END:DAYLIGHT
BEGIN:STANDARD
TZOFFSETFROM:-0400
TZOFFSETTO:-0500
TZNAME:EST
DTSTART:20271107T060000
END:STANDARD
BEGIN:DAYLIGHT
TZOFFSETFROM:-0500
TZOFFSETTO:-0400
TZNAME:EDT
DTSTART:20280312T070000
END:DAYLIGHT
BEGIN:STANDARD
TZOFFSETFROM:-0400
TZOFFSETTO:-0500
TZNAME:EST
DTSTART:20281105T060000
END:STANDARD
END:VTIMEZONE
BEGIN:VEVENT
DTSTART;TZID=America/New_York:20270622T110000
DTEND;TZID=America/New_York:20270622T160000
DTSTAMP:20260423T191556
CREATED:20260331T202412Z
LAST-MODIFIED:20260331T203636Z
UID:10007028-1813662000-1813680000@www.mapledalecc.com
SUMMARY:Lunch Available - Tuesday
DESCRIPTION:
URL:https://www.mapledalecc.com/event/tuesday-lunch/2027-06-22/
END:VEVENT
BEGIN:VEVENT
DTSTART;TZID=America/New_York:20270629T110000
DTEND;TZID=America/New_York:20270629T160000
DTSTAMP:20260423T191556
CREATED:20260331T202412Z
LAST-MODIFIED:20260331T203636Z
UID:10007029-1814266800-1814284800@www.mapledalecc.com
SUMMARY:Lunch Available - Tuesday
DESCRIPTION:
URL:https://www.mapledalecc.com/event/tuesday-lunch/2027-06-29/
END:VEVENT
BEGIN:VEVENT
DTSTART;TZID=America/New_York:20270706T110000
DTEND;TZID=America/New_York:20270706T160000
DTSTAMP:20260423T191556
CREATED:20260331T202412Z
LAST-MODIFIED:20260331T203636Z
UID:10007030-1814871600-1814889600@www.mapledalecc.com
SUMMARY:Lunch Available - Tuesday
DESCRIPTION:
URL:https://www.mapledalecc.com/event/tuesday-lunch/2027-07-06/
END:VEVENT
BEGIN:VEVENT
DTSTART;TZID=America/New_York:20270713T110000
DTEND;TZID=America/New_York:20270713T160000
DTSTAMP:20260423T191556
CREATED:20260331T202412Z
LAST-MODIFIED:20260331T203636Z
UID:10007031-1815476400-1815494400@www.mapledalecc.com
SUMMARY:Lunch Available - Tuesday
DESCRIPTION:
URL:https://www.mapledalecc.com/event/tuesday-lunch/2027-07-13/
END:VEVENT
BEGIN:VEVENT
DTSTART;TZID=America/New_York:20270720T110000
DTEND;TZID=America/New_York:20270720T160000
DTSTAMP:20260423T191556
CREATED:20260331T202412Z
LAST-MODIFIED:20260331T203636Z
UID:10007032-1816081200-1816099200@www.mapledalecc.com
SUMMARY:Lunch Available - Tuesday
DESCRIPTION:
URL:https://www.mapledalecc.com/event/tuesday-lunch/2027-07-20/
END:VEVENT
BEGIN:VEVENT
DTSTART;TZID=America/New_York:20270727T110000
DTEND;TZID=America/New_York:20270727T160000
DTSTAMP:20260423T191556
CREATED:20260331T202412Z
LAST-MODIFIED:20260331T203636Z
UID:10007033-1816686000-1816704000@www.mapledalecc.com
SUMMARY:Lunch Available - Tuesday
DESCRIPTION:
URL:https://www.mapledalecc.com/event/tuesday-lunch/2027-07-27/
END:VEVENT
BEGIN:VEVENT
DTSTART;TZID=America/New_York:20270803T110000
DTEND;TZID=America/New_York:20270803T160000
DTSTAMP:20260423T191556
CREATED:20260331T202412Z
LAST-MODIFIED:20260331T203636Z
UID:10007034-1817290800-1817308800@www.mapledalecc.com
SUMMARY:Lunch Available - Tuesday
DESCRIPTION:
URL:https://www.mapledalecc.com/event/tuesday-lunch/2027-08-03/
END:VEVENT
BEGIN:VEVENT
DTSTART;TZID=America/New_York:20270810T110000
DTEND;TZID=America/New_York:20270810T160000
DTSTAMP:20260423T191556
CREATED:20260331T202412Z
LAST-MODIFIED:20260331T203636Z
UID:10007035-1817895600-1817913600@www.mapledalecc.com
SUMMARY:Lunch Available - Tuesday
DESCRIPTION:
URL:https://www.mapledalecc.com/event/tuesday-lunch/2027-08-10/
END:VEVENT
BEGIN:VEVENT
DTSTART;TZID=America/New_York:20270817T110000
DTEND;TZID=America/New_York:20270817T160000
DTSTAMP:20260423T191556
CREATED:20260331T202412Z
LAST-MODIFIED:20260331T203636Z
UID:10007036-1818500400-1818518400@www.mapledalecc.com
SUMMARY:Lunch Available - Tuesday
DESCRIPTION:
URL:https://www.mapledalecc.com/event/tuesday-lunch/2027-08-17/
END:VEVENT
BEGIN:VEVENT
DTSTART;TZID=America/New_York:20270824T110000
DTEND;TZID=America/New_York:20270824T160000
DTSTAMP:20260423T191556
CREATED:20260331T202412Z
LAST-MODIFIED:20260331T203636Z
UID:10007037-1819105200-1819123200@www.mapledalecc.com
SUMMARY:Lunch Available - Tuesday
DESCRIPTION:
URL:https://www.mapledalecc.com/event/tuesday-lunch/2027-08-24/
END:VEVENT
BEGIN:VEVENT
DTSTART;TZID=America/New_York:20270831T110000
DTEND;TZID=America/New_York:20270831T160000
DTSTAMP:20260423T191556
CREATED:20260331T202412Z
LAST-MODIFIED:20260331T203636Z
UID:10007038-1819710000-1819728000@www.mapledalecc.com
SUMMARY:Lunch Available - Tuesday
DESCRIPTION:
URL:https://www.mapledalecc.com/event/tuesday-lunch/2027-08-31/
END:VEVENT
BEGIN:VEVENT
DTSTART;TZID=America/New_York:20270907T110000
DTEND;TZID=America/New_York:20270907T160000
DTSTAMP:20260423T191556
CREATED:20260331T202412Z
LAST-MODIFIED:20260331T203636Z
UID:10007039-1820314800-1820332800@www.mapledalecc.com
SUMMARY:Lunch Available - Tuesday
DESCRIPTION:
URL:https://www.mapledalecc.com/event/tuesday-lunch/2027-09-07/
END:VEVENT
BEGIN:VEVENT
DTSTART;TZID=America/New_York:20270914T110000
DTEND;TZID=America/New_York:20270914T160000
DTSTAMP:20260423T191556
CREATED:20260331T202412Z
LAST-MODIFIED:20260331T203636Z
UID:10007040-1820919600-1820937600@www.mapledalecc.com
SUMMARY:Lunch Available - Tuesday
DESCRIPTION:
URL:https://www.mapledalecc.com/event/tuesday-lunch/2027-09-14/
END:VEVENT
BEGIN:VEVENT
DTSTART;TZID=America/New_York:20270921T110000
DTEND;TZID=America/New_York:20270921T160000
DTSTAMP:20260423T191556
CREATED:20260331T202412Z
LAST-MODIFIED:20260331T203636Z
UID:10007041-1821524400-1821542400@www.mapledalecc.com
SUMMARY:Lunch Available - Tuesday
DESCRIPTION:
URL:https://www.mapledalecc.com/event/tuesday-lunch/2027-09-21/
END:VEVENT
BEGIN:VEVENT
DTSTART;TZID=America/New_York:20270928T110000
DTEND;TZID=America/New_York:20270928T160000
DTSTAMP:20260423T191556
CREATED:20260331T202412Z
LAST-MODIFIED:20260331T203636Z
UID:10007042-1822129200-1822147200@www.mapledalecc.com
SUMMARY:Lunch Available - Tuesday
DESCRIPTION:
URL:https://www.mapledalecc.com/event/tuesday-lunch/2027-09-28/
END:VEVENT
BEGIN:VEVENT
DTSTART;TZID=America/New_York:20271005T110000
DTEND;TZID=America/New_York:20271005T160000
DTSTAMP:20260423T191556
CREATED:20260331T202412Z
LAST-MODIFIED:20260331T203636Z
UID:10007043-1822734000-1822752000@www.mapledalecc.com
SUMMARY:Lunch Available - Tuesday
DESCRIPTION:
URL:https://www.mapledalecc.com/event/tuesday-lunch/2027-10-05/
END:VEVENT
BEGIN:VEVENT
DTSTART;TZID=America/New_York:20271012T110000
DTEND;TZID=America/New_York:20271012T160000
DTSTAMP:20260423T191556
CREATED:20260331T202412Z
LAST-MODIFIED:20260331T203636Z
UID:10007044-1823338800-1823356800@www.mapledalecc.com
SUMMARY:Lunch Available - Tuesday
DESCRIPTION:
URL:https://www.mapledalecc.com/event/tuesday-lunch/2027-10-12/
END:VEVENT
BEGIN:VEVENT
DTSTART;TZID=America/New_York:20271019T110000
DTEND;TZID=America/New_York:20271019T160000
DTSTAMP:20260423T191556
CREATED:20260331T202412Z
LAST-MODIFIED:20260331T203636Z
UID:10007045-1823943600-1823961600@www.mapledalecc.com
SUMMARY:Lunch Available - Tuesday
DESCRIPTION:
URL:https://www.mapledalecc.com/event/tuesday-lunch/2027-10-19/
END:VEVENT
BEGIN:VEVENT
DTSTART;TZID=America/New_York:20271026T110000
DTEND;TZID=America/New_York:20271026T160000
DTSTAMP:20260423T191556
CREATED:20260331T202412Z
LAST-MODIFIED:20260331T203636Z
UID:10007046-1824548400-1824566400@www.mapledalecc.com
SUMMARY:Lunch Available - Tuesday
DESCRIPTION:
URL:https://www.mapledalecc.com/event/tuesday-lunch/2027-10-26/
END:VEVENT
END:VCALENDAR