BEGIN:VCALENDAR
VERSION:2.0
PRODID:-//Maple Dale County Club - ECPv6.15.18//NONSGML v1.0//EN
CALSCALE:GREGORIAN
METHOD:PUBLISH
X-WR-CALNAME:Maple Dale County Club
X-ORIGINAL-URL:https://www.mapledalecc.com
X-WR-CALDESC:Events for Maple Dale County Club
REFRESH-INTERVAL;VALUE=DURATION:PT1H
X-Robots-Tag:noindex
X-PUBLISHED-TTL:PT1H
BEGIN:VTIMEZONE
TZID:America/New_York
BEGIN:DAYLIGHT
TZOFFSETFROM:-0500
TZOFFSETTO:-0400
TZNAME:EDT
DTSTART:20260308T070000
END:DAYLIGHT
BEGIN:STANDARD
TZOFFSETFROM:-0400
TZOFFSETTO:-0500
TZNAME:EST
DTSTART:20261101T060000
END:STANDARD
BEGIN:DAYLIGHT
TZOFFSETFROM:-0500
TZOFFSETTO:-0400
TZNAME:EDT
DTSTART:20270314T070000
END:DAYLIGHT
BEGIN:STANDARD
TZOFFSETFROM:-0400
TZOFFSETTO:-0500
TZNAME:EST
DTSTART:20271107T060000
END:STANDARD
BEGIN:DAYLIGHT
TZOFFSETFROM:-0500
TZOFFSETTO:-0400
TZNAME:EDT
DTSTART:20280312T070000
END:DAYLIGHT
BEGIN:STANDARD
TZOFFSETFROM:-0400
TZOFFSETTO:-0500
TZNAME:EST
DTSTART:20281105T060000
END:STANDARD
BEGIN:DAYLIGHT
TZOFFSETFROM:-0500
TZOFFSETTO:-0400
TZNAME:EDT
DTSTART:20290311T070000
END:DAYLIGHT
BEGIN:STANDARD
TZOFFSETFROM:-0400
TZOFFSETTO:-0500
TZNAME:EST
DTSTART:20291104T060000
END:STANDARD
END:VTIMEZONE
BEGIN:VEVENT
DTSTART;TZID=America/New_York:20270616T110000
DTEND;TZID=America/New_York:20270616T160000
DTSTAMP:20260419T153922
CREATED:20250102T165944Z
LAST-MODIFIED:20250102T170059Z
UID:10003495-1813143600-1813161600@www.mapledalecc.com
SUMMARY:Lunch Available - Wednesday
DESCRIPTION:
URL:https://www.mapledalecc.com/event/lunch-available-wednesday-2/2027-06-16/
END:VEVENT
BEGIN:VEVENT
DTSTART;TZID=America/New_York:20270623T110000
DTEND;TZID=America/New_York:20270623T160000
DTSTAMP:20260419T153922
CREATED:20250102T165944Z
LAST-MODIFIED:20250102T170059Z
UID:10003496-1813748400-1813766400@www.mapledalecc.com
SUMMARY:Lunch Available - Wednesday
DESCRIPTION:
URL:https://www.mapledalecc.com/event/lunch-available-wednesday-2/2027-06-23/
END:VEVENT
BEGIN:VEVENT
DTSTART;TZID=America/New_York:20270630T110000
DTEND;TZID=America/New_York:20270630T160000
DTSTAMP:20260419T153922
CREATED:20250102T165944Z
LAST-MODIFIED:20250102T170059Z
UID:10003497-1814353200-1814371200@www.mapledalecc.com
SUMMARY:Lunch Available - Wednesday
DESCRIPTION:
URL:https://www.mapledalecc.com/event/lunch-available-wednesday-2/2027-06-30/
END:VEVENT
BEGIN:VEVENT
DTSTART;TZID=America/New_York:20270707T110000
DTEND;TZID=America/New_York:20270707T160000
DTSTAMP:20260419T153922
CREATED:20250102T165944Z
LAST-MODIFIED:20250102T170059Z
UID:10003498-1814958000-1814976000@www.mapledalecc.com
SUMMARY:Lunch Available - Wednesday
DESCRIPTION:
URL:https://www.mapledalecc.com/event/lunch-available-wednesday-2/2027-07-07/
END:VEVENT
BEGIN:VEVENT
DTSTART;TZID=America/New_York:20270714T110000
DTEND;TZID=America/New_York:20270714T160000
DTSTAMP:20260419T153922
CREATED:20250102T165944Z
LAST-MODIFIED:20250102T170059Z
UID:10003499-1815562800-1815580800@www.mapledalecc.com
SUMMARY:Lunch Available - Wednesday
DESCRIPTION:
URL:https://www.mapledalecc.com/event/lunch-available-wednesday-2/2027-07-14/
END:VEVENT
BEGIN:VEVENT
DTSTART;TZID=America/New_York:20270721T110000
DTEND;TZID=America/New_York:20270721T160000
DTSTAMP:20260419T153922
CREATED:20250102T165944Z
LAST-MODIFIED:20250102T170059Z
UID:10003500-1816167600-1816185600@www.mapledalecc.com
SUMMARY:Lunch Available - Wednesday
DESCRIPTION:
URL:https://www.mapledalecc.com/event/lunch-available-wednesday-2/2027-07-21/
END:VEVENT
BEGIN:VEVENT
DTSTART;TZID=America/New_York:20270728T110000
DTEND;TZID=America/New_York:20270728T160000
DTSTAMP:20260419T153922
CREATED:20250102T165944Z
LAST-MODIFIED:20250102T170059Z
UID:10003501-1816772400-1816790400@www.mapledalecc.com
SUMMARY:Lunch Available - Wednesday
DESCRIPTION:
URL:https://www.mapledalecc.com/event/lunch-available-wednesday-2/2027-07-28/
END:VEVENT
BEGIN:VEVENT
DTSTART;TZID=America/New_York:20270804T110000
DTEND;TZID=America/New_York:20270804T160000
DTSTAMP:20260419T153922
CREATED:20250102T165944Z
LAST-MODIFIED:20250102T170059Z
UID:10003502-1817377200-1817395200@www.mapledalecc.com
SUMMARY:Lunch Available - Wednesday
DESCRIPTION:
URL:https://www.mapledalecc.com/event/lunch-available-wednesday-2/2027-08-04/
END:VEVENT
BEGIN:VEVENT
DTSTART;TZID=America/New_York:20270811T110000
DTEND;TZID=America/New_York:20270811T160000
DTSTAMP:20260419T153922
CREATED:20250102T165944Z
LAST-MODIFIED:20250102T170059Z
UID:10003503-1817982000-1818000000@www.mapledalecc.com
SUMMARY:Lunch Available - Wednesday
DESCRIPTION:
URL:https://www.mapledalecc.com/event/lunch-available-wednesday-2/2027-08-11/
END:VEVENT
BEGIN:VEVENT
DTSTART;TZID=America/New_York:20270818T110000
DTEND;TZID=America/New_York:20270818T160000
DTSTAMP:20260419T153922
CREATED:20250102T165944Z
LAST-MODIFIED:20250102T170059Z
UID:10003504-1818586800-1818604800@www.mapledalecc.com
SUMMARY:Lunch Available - Wednesday
DESCRIPTION:
URL:https://www.mapledalecc.com/event/lunch-available-wednesday-2/2027-08-18/
END:VEVENT
BEGIN:VEVENT
DTSTART;TZID=America/New_York:20270825T110000
DTEND;TZID=America/New_York:20270825T160000
DTSTAMP:20260419T153922
CREATED:20250102T165944Z
LAST-MODIFIED:20250102T170059Z
UID:10003505-1819191600-1819209600@www.mapledalecc.com
SUMMARY:Lunch Available - Wednesday
DESCRIPTION:
URL:https://www.mapledalecc.com/event/lunch-available-wednesday-2/2027-08-25/
END:VEVENT
BEGIN:VEVENT
DTSTART;TZID=America/New_York:20270901T110000
DTEND;TZID=America/New_York:20270901T160000
DTSTAMP:20260419T153922
CREATED:20250102T165944Z
LAST-MODIFIED:20250102T170059Z
UID:10003506-1819796400-1819814400@www.mapledalecc.com
SUMMARY:Lunch Available - Wednesday
DESCRIPTION:
URL:https://www.mapledalecc.com/event/lunch-available-wednesday-2/2027-09-01/
END:VEVENT
BEGIN:VEVENT
DTSTART;TZID=America/New_York:20270908T110000
DTEND;TZID=America/New_York:20270908T160000
DTSTAMP:20260419T153922
CREATED:20250102T165944Z
LAST-MODIFIED:20250102T170059Z
UID:10003507-1820401200-1820419200@www.mapledalecc.com
SUMMARY:Lunch Available - Wednesday
DESCRIPTION:
URL:https://www.mapledalecc.com/event/lunch-available-wednesday-2/2027-09-08/
END:VEVENT
BEGIN:VEVENT
DTSTART;TZID=America/New_York:20270915T110000
DTEND;TZID=America/New_York:20270915T160000
DTSTAMP:20260419T153922
CREATED:20250102T165944Z
LAST-MODIFIED:20250102T170059Z
UID:10003508-1821006000-1821024000@www.mapledalecc.com
SUMMARY:Lunch Available - Wednesday
DESCRIPTION:
URL:https://www.mapledalecc.com/event/lunch-available-wednesday-2/2027-09-15/
END:VEVENT
BEGIN:VEVENT
DTSTART;TZID=America/New_York:20270922T110000
DTEND;TZID=America/New_York:20270922T160000
DTSTAMP:20260419T153922
CREATED:20250102T165944Z
LAST-MODIFIED:20250102T170059Z
UID:10003509-1821610800-1821628800@www.mapledalecc.com
SUMMARY:Lunch Available - Wednesday
DESCRIPTION:
URL:https://www.mapledalecc.com/event/lunch-available-wednesday-2/2027-09-22/
END:VEVENT
BEGIN:VEVENT
DTSTART;TZID=America/New_York:20270929T110000
DTEND;TZID=America/New_York:20270929T160000
DTSTAMP:20260419T153922
CREATED:20250102T165944Z
LAST-MODIFIED:20250102T170059Z
UID:10003510-1822215600-1822233600@www.mapledalecc.com
SUMMARY:Lunch Available - Wednesday
DESCRIPTION:
URL:https://www.mapledalecc.com/event/lunch-available-wednesday-2/2027-09-29/
END:VEVENT
BEGIN:VEVENT
DTSTART;TZID=America/New_York:20271006T110000
DTEND;TZID=America/New_York:20271006T160000
DTSTAMP:20260419T153922
CREATED:20250102T165944Z
LAST-MODIFIED:20250102T170059Z
UID:10003511-1822820400-1822838400@www.mapledalecc.com
SUMMARY:Lunch Available - Wednesday
DESCRIPTION:
URL:https://www.mapledalecc.com/event/lunch-available-wednesday-2/2027-10-06/
END:VEVENT
BEGIN:VEVENT
DTSTART;TZID=America/New_York:20271013T110000
DTEND;TZID=America/New_York:20271013T160000
DTSTAMP:20260419T153922
CREATED:20250102T165944Z
LAST-MODIFIED:20250102T170059Z
UID:10003512-1823425200-1823443200@www.mapledalecc.com
SUMMARY:Lunch Available - Wednesday
DESCRIPTION:
URL:https://www.mapledalecc.com/event/lunch-available-wednesday-2/2027-10-13/
END:VEVENT
BEGIN:VEVENT
DTSTART;TZID=America/New_York:20271020T110000
DTEND;TZID=America/New_York:20271020T160000
DTSTAMP:20260419T153922
CREATED:20250102T165944Z
LAST-MODIFIED:20250102T170059Z
UID:10003513-1824030000-1824048000@www.mapledalecc.com
SUMMARY:Lunch Available - Wednesday
DESCRIPTION:
URL:https://www.mapledalecc.com/event/lunch-available-wednesday-2/2027-10-20/
END:VEVENT
BEGIN:VEVENT
DTSTART;TZID=America/New_York:20271027T110000
DTEND;TZID=America/New_York:20271027T160000
DTSTAMP:20260419T153922
CREATED:20250102T165944Z
LAST-MODIFIED:20250102T170059Z
UID:10003514-1824634800-1824652800@www.mapledalecc.com
SUMMARY:Lunch Available - Wednesday
DESCRIPTION:
URL:https://www.mapledalecc.com/event/lunch-available-wednesday-2/2027-10-27/
END:VEVENT
BEGIN:VEVENT
DTSTART;TZID=America/New_York:20271103T110000
DTEND;TZID=America/New_York:20271103T160000
DTSTAMP:20260419T153922
CREATED:20250102T165944Z
LAST-MODIFIED:20250102T170059Z
UID:10003515-1825239600-1825257600@www.mapledalecc.com
SUMMARY:Lunch Available - Wednesday
DESCRIPTION:
URL:https://www.mapledalecc.com/event/lunch-available-wednesday-2/2027-11-03/
END:VEVENT
BEGIN:VEVENT
DTSTART;TZID=America/New_York:20271110T110000
DTEND;TZID=America/New_York:20271110T160000
DTSTAMP:20260419T153922
CREATED:20250102T165944Z
LAST-MODIFIED:20250102T170059Z
UID:10003516-1825844400-1825862400@www.mapledalecc.com
SUMMARY:Lunch Available - Wednesday
DESCRIPTION:
URL:https://www.mapledalecc.com/event/lunch-available-wednesday-2/2027-11-10/
END:VEVENT
BEGIN:VEVENT
DTSTART;TZID=America/New_York:20271117T110000
DTEND;TZID=America/New_York:20271117T160000
DTSTAMP:20260419T153922
CREATED:20250102T165944Z
LAST-MODIFIED:20250102T170059Z
UID:10003517-1826449200-1826467200@www.mapledalecc.com
SUMMARY:Lunch Available - Wednesday
DESCRIPTION:
URL:https://www.mapledalecc.com/event/lunch-available-wednesday-2/2027-11-17/
END:VEVENT
BEGIN:VEVENT
DTSTART;TZID=America/New_York:20271124T110000
DTEND;TZID=America/New_York:20271124T160000
DTSTAMP:20260419T153922
CREATED:20250102T165944Z
LAST-MODIFIED:20250102T170059Z
UID:10003518-1827054000-1827072000@www.mapledalecc.com
SUMMARY:Lunch Available - Wednesday
DESCRIPTION:
URL:https://www.mapledalecc.com/event/lunch-available-wednesday-2/2027-11-24/
END:VEVENT
BEGIN:VEVENT
DTSTART;TZID=America/New_York:20271201T110000
DTEND;TZID=America/New_York:20271201T160000
DTSTAMP:20260419T153922
CREATED:20250102T165944Z
LAST-MODIFIED:20250102T170059Z
UID:10003519-1827658800-1827676800@www.mapledalecc.com
SUMMARY:Lunch Available - Wednesday
DESCRIPTION:
URL:https://www.mapledalecc.com/event/lunch-available-wednesday-2/2027-12-01/
END:VEVENT
BEGIN:VEVENT
DTSTART;TZID=America/New_York:20271208T110000
DTEND;TZID=America/New_York:20271208T160000
DTSTAMP:20260419T153922
CREATED:20250102T165944Z
LAST-MODIFIED:20250102T170059Z
UID:10003520-1828263600-1828281600@www.mapledalecc.com
SUMMARY:Lunch Available - Wednesday
DESCRIPTION:
URL:https://www.mapledalecc.com/event/lunch-available-wednesday-2/2027-12-08/
END:VEVENT
BEGIN:VEVENT
DTSTART;TZID=America/New_York:20271215T110000
DTEND;TZID=America/New_York:20271215T160000
DTSTAMP:20260419T153922
CREATED:20250102T165944Z
LAST-MODIFIED:20250102T170059Z
UID:10003521-1828868400-1828886400@www.mapledalecc.com
SUMMARY:Lunch Available - Wednesday
DESCRIPTION:
URL:https://www.mapledalecc.com/event/lunch-available-wednesday-2/2027-12-15/
END:VEVENT
BEGIN:VEVENT
DTSTART;TZID=America/New_York:20271222T110000
DTEND;TZID=America/New_York:20271222T160000
DTSTAMP:20260419T153922
CREATED:20250102T165944Z
LAST-MODIFIED:20250102T170059Z
UID:10003522-1829473200-1829491200@www.mapledalecc.com
SUMMARY:Lunch Available - Wednesday
DESCRIPTION:
URL:https://www.mapledalecc.com/event/lunch-available-wednesday-2/2027-12-22/
END:VEVENT
BEGIN:VEVENT
DTSTART;TZID=America/New_York:20271229T110000
DTEND;TZID=America/New_York:20271229T160000
DTSTAMP:20260419T153922
CREATED:20250102T165944Z
LAST-MODIFIED:20250102T170059Z
UID:10003523-1830078000-1830096000@www.mapledalecc.com
SUMMARY:Lunch Available - Wednesday
DESCRIPTION:
URL:https://www.mapledalecc.com/event/lunch-available-wednesday-2/2027-12-29/
END:VEVENT
BEGIN:VEVENT
DTSTART;TZID=America/New_York:20280105T110000
DTEND;TZID=America/New_York:20280105T160000
DTSTAMP:20260419T153922
CREATED:20250102T165944Z
LAST-MODIFIED:20250102T170059Z
UID:10003524-1830682800-1830700800@www.mapledalecc.com
SUMMARY:Lunch Available - Wednesday
DESCRIPTION:
URL:https://www.mapledalecc.com/event/lunch-available-wednesday-2/2028-01-05/
END:VEVENT
END:VCALENDAR