BEGIN:VCALENDAR
VERSION:2.0
PRODID:-//Maple Dale County Club - ECPv6.15.18//NONSGML v1.0//EN
CALSCALE:GREGORIAN
METHOD:PUBLISH
X-ORIGINAL-URL:https://www.mapledalecc.com
X-WR-CALDESC:Events for Maple Dale County Club
REFRESH-INTERVAL;VALUE=DURATION:PT1H
X-Robots-Tag:noindex
X-PUBLISHED-TTL:PT1H
BEGIN:VTIMEZONE
TZID:America/New_York
BEGIN:DAYLIGHT
TZOFFSETFROM:-0500
TZOFFSETTO:-0400
TZNAME:EDT
DTSTART:20280312T070000
END:DAYLIGHT
BEGIN:STANDARD
TZOFFSETFROM:-0400
TZOFFSETTO:-0500
TZNAME:EST
DTSTART:20281105T060000
END:STANDARD
BEGIN:DAYLIGHT
TZOFFSETFROM:-0500
TZOFFSETTO:-0400
TZNAME:EDT
DTSTART:20290311T070000
END:DAYLIGHT
BEGIN:STANDARD
TZOFFSETFROM:-0400
TZOFFSETTO:-0500
TZNAME:EST
DTSTART:20291104T060000
END:STANDARD
BEGIN:DAYLIGHT
TZOFFSETFROM:-0500
TZOFFSETTO:-0400
TZNAME:EDT
DTSTART:20300310T070000
END:DAYLIGHT
BEGIN:STANDARD
TZOFFSETFROM:-0400
TZOFFSETTO:-0500
TZNAME:EST
DTSTART:20301103T060000
END:STANDARD
END:VTIMEZONE
BEGIN:VEVENT
DTSTART;TZID=America/New_York:20290505T110000
DTEND;TZID=America/New_York:20290505T160000
DTSTAMP:20260426T000052
CREATED:20241122T145406Z
LAST-MODIFIED:20241122T145406Z
UID:10003072-1872673200-1872691200@www.mapledalecc.com
SUMMARY:Lunch Available - Saturday
DESCRIPTION:
URL:https://www.mapledalecc.com/event/lunch-available-saturday/2029-05-05/
END:VEVENT
BEGIN:VEVENT
DTSTART;TZID=America/New_York:20290505T160000
DTEND;TZID=America/New_York:20290505T210000
DTSTAMP:20260426T000052
CREATED:20250402T163840Z
LAST-MODIFIED:20250402T164016Z
UID:10005712-1872691200-1872709200@www.mapledalecc.com
SUMMARY:Dinner Available - Saturday
DESCRIPTION:
URL:https://www.mapledalecc.com/event/dinner-available-saturdays/2029-05-05/
END:VEVENT
BEGIN:VEVENT
DTSTART;TZID=America/New_York:20290506T110000
DTEND;TZID=America/New_York:20290506T160000
DTSTAMP:20260426T000052
CREATED:20241122T145940Z
LAST-MODIFIED:20241122T145940Z
UID:10003335-1872759600-1872777600@www.mapledalecc.com
SUMMARY:Lunch Available - Sunday
DESCRIPTION:
URL:https://www.mapledalecc.com/event/lunch-available-sunday/2029-05-06/
END:VEVENT
BEGIN:VEVENT
DTSTART;TZID=America/New_York:20290507T000000
DTEND;TZID=America/New_York:20290507T000000
DTSTAMP:20260426T000052
CREATED:20241001T203438Z
LAST-MODIFIED:20260331T204152Z
UID:10006784-1872806400-1872806400@www.mapledalecc.com
SUMMARY:Dining Room Closed
DESCRIPTION:No food service on Mondays or Tuesdays during the winter months. \n  \n 
URL:https://www.mapledalecc.com/event/dining-room-closed/2029-05-07/
END:VEVENT
BEGIN:VEVENT
DTSTART;TZID=America/New_York:20290509T110000
DTEND;TZID=America/New_York:20290509T160000
DTSTAMP:20260426T000052
CREATED:20250102T165944Z
LAST-MODIFIED:20250102T170059Z
UID:10003594-1873018800-1873036800@www.mapledalecc.com
SUMMARY:Lunch Available - Wednesday
DESCRIPTION:
URL:https://www.mapledalecc.com/event/lunch-available-wednesday-2/2029-05-09/
END:VEVENT
BEGIN:VEVENT
DTSTART;TZID=America/New_York:20290509T160000
DTEND;TZID=America/New_York:20290509T210000
DTSTAMP:20260426T000052
CREATED:20250102T171316Z
LAST-MODIFIED:20250801T142106Z
UID:10003855-1873036800-1873054800@www.mapledalecc.com
SUMMARY:Dinner Available - Wednesday
DESCRIPTION:
URL:https://www.mapledalecc.com/event/dinner-available-wednesday/2029-05-09/
END:VEVENT
BEGIN:VEVENT
DTSTART;TZID=America/New_York:20290510T110000
DTEND;TZID=America/New_York:20290510T160000
DTSTAMP:20260426T000052
CREATED:20241122T144554Z
LAST-MODIFIED:20241122T144554Z
UID:10002289-1873105200-1873123200@www.mapledalecc.com
SUMMARY:Lunch Available - Thursday
DESCRIPTION:
URL:https://www.mapledalecc.com/event/lunch-available-thursday/2029-05-10/
END:VEVENT
BEGIN:VEVENT
DTSTART;TZID=America/New_York:20290510T160000
DTEND;TZID=America/New_York:20290510T210000
DTSTAMP:20260426T000052
CREATED:20250123T203339Z
LAST-MODIFIED:20250513T182749Z
UID:10004381-1873123200-1873141200@www.mapledalecc.com
SUMMARY:Dinner Available - Thursday
DESCRIPTION:
URL:https://www.mapledalecc.com/event/throwback-thursdays/2029-05-10/
END:VEVENT
BEGIN:VEVENT
DTSTART;TZID=America/New_York:20290511T110000
DTEND;TZID=America/New_York:20290511T160000
DTSTAMP:20260426T000052
CREATED:20241214T172509Z
LAST-MODIFIED:20241214T172509Z
UID:10002810-1873191600-1873209600@www.mapledalecc.com
SUMMARY:Lunch Service - Friday
DESCRIPTION:
URL:https://www.mapledalecc.com/event/lunch-service-friday-2/2029-05-11/
END:VEVENT
BEGIN:VEVENT
DTSTART;TZID=America/New_York:20290511T160000
DTEND;TZID=America/New_York:20290511T210000
DTSTAMP:20260426T000052
CREATED:20250402T164304Z
LAST-MODIFIED:20250402T164712Z
UID:10005971-1873209600-1873227600@www.mapledalecc.com
SUMMARY:Dinner Available - Fridays
DESCRIPTION:Prime Rib Night
URL:https://www.mapledalecc.com/event/dinner-available-fridays/2029-05-11/
END:VEVENT
BEGIN:VEVENT
DTSTART;TZID=America/New_York:20290512T110000
DTEND;TZID=America/New_York:20290512T160000
DTSTAMP:20260426T000052
CREATED:20241122T145406Z
LAST-MODIFIED:20241122T145406Z
UID:10003073-1873278000-1873296000@www.mapledalecc.com
SUMMARY:Lunch Available - Saturday
DESCRIPTION:
URL:https://www.mapledalecc.com/event/lunch-available-saturday/2029-05-12/
END:VEVENT
BEGIN:VEVENT
DTSTART;TZID=America/New_York:20290512T160000
DTEND;TZID=America/New_York:20290512T210000
DTSTAMP:20260426T000052
CREATED:20250402T163840Z
LAST-MODIFIED:20250402T164016Z
UID:10005713-1873296000-1873314000@www.mapledalecc.com
SUMMARY:Dinner Available - Saturday
DESCRIPTION:
URL:https://www.mapledalecc.com/event/dinner-available-saturdays/2029-05-12/
END:VEVENT
BEGIN:VEVENT
DTSTART;TZID=America/New_York:20290513T110000
DTEND;TZID=America/New_York:20290513T160000
DTSTAMP:20260426T000052
CREATED:20241122T145940Z
LAST-MODIFIED:20241122T145940Z
UID:10003336-1873364400-1873382400@www.mapledalecc.com
SUMMARY:Lunch Available - Sunday
DESCRIPTION:
URL:https://www.mapledalecc.com/event/lunch-available-sunday/2029-05-13/
END:VEVENT
BEGIN:VEVENT
DTSTART;TZID=America/New_York:20290514T000000
DTEND;TZID=America/New_York:20290514T000000
DTSTAMP:20260426T000052
CREATED:20241001T203438Z
LAST-MODIFIED:20260331T204152Z
UID:10006786-1873411200-1873411200@www.mapledalecc.com
SUMMARY:Dining Room Closed
DESCRIPTION:No food service on Mondays or Tuesdays during the winter months. \n  \n 
URL:https://www.mapledalecc.com/event/dining-room-closed/2029-05-14/
END:VEVENT
BEGIN:VEVENT
DTSTART;TZID=America/New_York:20290516T110000
DTEND;TZID=America/New_York:20290516T160000
DTSTAMP:20260426T000052
CREATED:20250102T165944Z
LAST-MODIFIED:20250102T170059Z
UID:10003595-1873623600-1873641600@www.mapledalecc.com
SUMMARY:Lunch Available - Wednesday
DESCRIPTION:
URL:https://www.mapledalecc.com/event/lunch-available-wednesday-2/2029-05-16/
END:VEVENT
BEGIN:VEVENT
DTSTART;TZID=America/New_York:20290516T160000
DTEND;TZID=America/New_York:20290516T210000
DTSTAMP:20260426T000052
CREATED:20250102T171316Z
LAST-MODIFIED:20250801T142106Z
UID:10003856-1873641600-1873659600@www.mapledalecc.com
SUMMARY:Dinner Available - Wednesday
DESCRIPTION:
URL:https://www.mapledalecc.com/event/dinner-available-wednesday/2029-05-16/
END:VEVENT
BEGIN:VEVENT
DTSTART;TZID=America/New_York:20290517T110000
DTEND;TZID=America/New_York:20290517T160000
DTSTAMP:20260426T000052
CREATED:20241122T144554Z
LAST-MODIFIED:20241122T144554Z
UID:10002290-1873710000-1873728000@www.mapledalecc.com
SUMMARY:Lunch Available - Thursday
DESCRIPTION:
URL:https://www.mapledalecc.com/event/lunch-available-thursday/2029-05-17/
END:VEVENT
BEGIN:VEVENT
DTSTART;TZID=America/New_York:20290517T160000
DTEND;TZID=America/New_York:20290517T210000
DTSTAMP:20260426T000052
CREATED:20250123T203339Z
LAST-MODIFIED:20250513T182749Z
UID:10004382-1873728000-1873746000@www.mapledalecc.com
SUMMARY:Dinner Available - Thursday
DESCRIPTION:
URL:https://www.mapledalecc.com/event/throwback-thursdays/2029-05-17/
END:VEVENT
BEGIN:VEVENT
DTSTART;TZID=America/New_York:20290518T110000
DTEND;TZID=America/New_York:20290518T160000
DTSTAMP:20260426T000052
CREATED:20241214T172509Z
LAST-MODIFIED:20241214T172509Z
UID:10002811-1873796400-1873814400@www.mapledalecc.com
SUMMARY:Lunch Service - Friday
DESCRIPTION:
URL:https://www.mapledalecc.com/event/lunch-service-friday-2/2029-05-18/
END:VEVENT
BEGIN:VEVENT
DTSTART;TZID=America/New_York:20290518T160000
DTEND;TZID=America/New_York:20290518T210000
DTSTAMP:20260426T000052
CREATED:20250402T164304Z
LAST-MODIFIED:20250402T164712Z
UID:10005972-1873814400-1873832400@www.mapledalecc.com
SUMMARY:Dinner Available - Fridays
DESCRIPTION:Prime Rib Night
URL:https://www.mapledalecc.com/event/dinner-available-fridays/2029-05-18/
END:VEVENT
BEGIN:VEVENT
DTSTART;TZID=America/New_York:20290519T110000
DTEND;TZID=America/New_York:20290519T160000
DTSTAMP:20260426T000052
CREATED:20241122T145406Z
LAST-MODIFIED:20241122T145406Z
UID:10003074-1873882800-1873900800@www.mapledalecc.com
SUMMARY:Lunch Available - Saturday
DESCRIPTION:
URL:https://www.mapledalecc.com/event/lunch-available-saturday/2029-05-19/
END:VEVENT
BEGIN:VEVENT
DTSTART;TZID=America/New_York:20290519T160000
DTEND;TZID=America/New_York:20290519T210000
DTSTAMP:20260426T000052
CREATED:20250402T163840Z
LAST-MODIFIED:20250402T164016Z
UID:10005714-1873900800-1873918800@www.mapledalecc.com
SUMMARY:Dinner Available - Saturday
DESCRIPTION:
URL:https://www.mapledalecc.com/event/dinner-available-saturdays/2029-05-19/
END:VEVENT
BEGIN:VEVENT
DTSTART;TZID=America/New_York:20290520T110000
DTEND;TZID=America/New_York:20290520T160000
DTSTAMP:20260426T000052
CREATED:20241122T145940Z
LAST-MODIFIED:20241122T145940Z
UID:10003337-1873969200-1873987200@www.mapledalecc.com
SUMMARY:Lunch Available - Sunday
DESCRIPTION:
URL:https://www.mapledalecc.com/event/lunch-available-sunday/2029-05-20/
END:VEVENT
BEGIN:VEVENT
DTSTART;TZID=America/New_York:20290521T000000
DTEND;TZID=America/New_York:20290521T000000
DTSTAMP:20260426T000052
CREATED:20241001T203438Z
LAST-MODIFIED:20260331T204152Z
UID:10006788-1874016000-1874016000@www.mapledalecc.com
SUMMARY:Dining Room Closed
DESCRIPTION:No food service on Mondays or Tuesdays during the winter months. \n  \n 
URL:https://www.mapledalecc.com/event/dining-room-closed/2029-05-21/
END:VEVENT
BEGIN:VEVENT
DTSTART;TZID=America/New_York:20290523T110000
DTEND;TZID=America/New_York:20290523T160000
DTSTAMP:20260426T000052
CREATED:20250102T165944Z
LAST-MODIFIED:20250102T170059Z
UID:10003596-1874228400-1874246400@www.mapledalecc.com
SUMMARY:Lunch Available - Wednesday
DESCRIPTION:
URL:https://www.mapledalecc.com/event/lunch-available-wednesday-2/2029-05-23/
END:VEVENT
BEGIN:VEVENT
DTSTART;TZID=America/New_York:20290523T160000
DTEND;TZID=America/New_York:20290523T210000
DTSTAMP:20260426T000052
CREATED:20250102T171316Z
LAST-MODIFIED:20250801T142106Z
UID:10003857-1874246400-1874264400@www.mapledalecc.com
SUMMARY:Dinner Available - Wednesday
DESCRIPTION:
URL:https://www.mapledalecc.com/event/dinner-available-wednesday/2029-05-23/
END:VEVENT
BEGIN:VEVENT
DTSTART;TZID=America/New_York:20290524T110000
DTEND;TZID=America/New_York:20290524T160000
DTSTAMP:20260426T000052
CREATED:20241122T144554Z
LAST-MODIFIED:20241122T144554Z
UID:10002291-1874314800-1874332800@www.mapledalecc.com
SUMMARY:Lunch Available - Thursday
DESCRIPTION:
URL:https://www.mapledalecc.com/event/lunch-available-thursday/2029-05-24/
END:VEVENT
BEGIN:VEVENT
DTSTART;TZID=America/New_York:20290524T160000
DTEND;TZID=America/New_York:20290524T210000
DTSTAMP:20260426T000052
CREATED:20250123T203339Z
LAST-MODIFIED:20250513T182749Z
UID:10004383-1874332800-1874350800@www.mapledalecc.com
SUMMARY:Dinner Available - Thursday
DESCRIPTION:
URL:https://www.mapledalecc.com/event/throwback-thursdays/2029-05-24/
END:VEVENT
BEGIN:VEVENT
DTSTART;TZID=America/New_York:20290525T110000
DTEND;TZID=America/New_York:20290525T160000
DTSTAMP:20260426T000052
CREATED:20241214T172509Z
LAST-MODIFIED:20241214T172509Z
UID:10002812-1874401200-1874419200@www.mapledalecc.com
SUMMARY:Lunch Service - Friday
DESCRIPTION:
URL:https://www.mapledalecc.com/event/lunch-service-friday-2/2029-05-25/
END:VEVENT
BEGIN:VEVENT
DTSTART;TZID=America/New_York:20290525T160000
DTEND;TZID=America/New_York:20290525T210000
DTSTAMP:20260426T000052
CREATED:20250402T164304Z
LAST-MODIFIED:20250402T164712Z
UID:10005973-1874419200-1874437200@www.mapledalecc.com
SUMMARY:Dinner Available - Fridays
DESCRIPTION:Prime Rib Night
URL:https://www.mapledalecc.com/event/dinner-available-fridays/2029-05-25/
END:VEVENT
END:VCALENDAR