BEGIN:VCALENDAR
VERSION:2.0
PRODID:-//Maple Dale County Club - ECPv6.15.18//NONSGML v1.0//EN
CALSCALE:GREGORIAN
METHOD:PUBLISH
X-WR-CALNAME:Maple Dale County Club
X-ORIGINAL-URL:https://www.mapledalecc.com
X-WR-CALDESC:Events for Maple Dale County Club
REFRESH-INTERVAL;VALUE=DURATION:PT1H
X-Robots-Tag:noindex
X-PUBLISHED-TTL:PT1H
BEGIN:VTIMEZONE
TZID:America/New_York
BEGIN:DAYLIGHT
TZOFFSETFROM:-0500
TZOFFSETTO:-0400
TZNAME:EDT
DTSTART:20280312T070000
END:DAYLIGHT
BEGIN:STANDARD
TZOFFSETFROM:-0400
TZOFFSETTO:-0500
TZNAME:EST
DTSTART:20281105T060000
END:STANDARD
BEGIN:DAYLIGHT
TZOFFSETFROM:-0500
TZOFFSETTO:-0400
TZNAME:EDT
DTSTART:20290311T070000
END:DAYLIGHT
BEGIN:STANDARD
TZOFFSETFROM:-0400
TZOFFSETTO:-0500
TZNAME:EST
DTSTART:20291104T060000
END:STANDARD
BEGIN:DAYLIGHT
TZOFFSETFROM:-0500
TZOFFSETTO:-0400
TZNAME:EDT
DTSTART:20300310T070000
END:DAYLIGHT
BEGIN:STANDARD
TZOFFSETFROM:-0400
TZOFFSETTO:-0500
TZNAME:EST
DTSTART:20301103T060000
END:STANDARD
END:VTIMEZONE
BEGIN:VEVENT
DTSTART;TZID=America/New_York:20290308T110000
DTEND;TZID=America/New_York:20290308T160000
DTSTAMP:20260421T182103
CREATED:20241122T144554Z
LAST-MODIFIED:20241122T144554Z
UID:10002280-1867662000-1867680000@www.mapledalecc.com
SUMMARY:Lunch Available - Thursday
DESCRIPTION:
URL:https://www.mapledalecc.com/event/lunch-available-thursday/2029-03-08/
END:VEVENT
BEGIN:VEVENT
DTSTART;TZID=America/New_York:20290308T160000
DTEND;TZID=America/New_York:20290308T210000
DTSTAMP:20260421T182103
CREATED:20250123T203339Z
LAST-MODIFIED:20250513T182749Z
UID:10004372-1867680000-1867698000@www.mapledalecc.com
SUMMARY:Dinner Available - Thursday
DESCRIPTION:
URL:https://www.mapledalecc.com/event/throwback-thursdays/2029-03-08/
END:VEVENT
BEGIN:VEVENT
DTSTART;TZID=America/New_York:20290309T110000
DTEND;TZID=America/New_York:20290309T160000
DTSTAMP:20260421T182103
CREATED:20241214T172509Z
LAST-MODIFIED:20241214T172509Z
UID:10002801-1867748400-1867766400@www.mapledalecc.com
SUMMARY:Lunch Service - Friday
DESCRIPTION:
URL:https://www.mapledalecc.com/event/lunch-service-friday-2/2029-03-09/
END:VEVENT
BEGIN:VEVENT
DTSTART;TZID=America/New_York:20290309T160000
DTEND;TZID=America/New_York:20290309T210000
DTSTAMP:20260421T182103
CREATED:20250402T164304Z
LAST-MODIFIED:20250402T164712Z
UID:10005962-1867766400-1867784400@www.mapledalecc.com
SUMMARY:Dinner Available - Fridays
DESCRIPTION:Prime Rib Night
URL:https://www.mapledalecc.com/event/dinner-available-fridays/2029-03-09/
END:VEVENT
BEGIN:VEVENT
DTSTART;TZID=America/New_York:20290310T110000
DTEND;TZID=America/New_York:20290310T160000
DTSTAMP:20260421T182103
CREATED:20241122T145406Z
LAST-MODIFIED:20241122T145406Z
UID:10003064-1867834800-1867852800@www.mapledalecc.com
SUMMARY:Lunch Available - Saturday
DESCRIPTION:
URL:https://www.mapledalecc.com/event/lunch-available-saturday/2029-03-10/
END:VEVENT
BEGIN:VEVENT
DTSTART;TZID=America/New_York:20290310T160000
DTEND;TZID=America/New_York:20290310T210000
DTSTAMP:20260421T182103
CREATED:20250402T163840Z
LAST-MODIFIED:20250402T164016Z
UID:10005704-1867852800-1867870800@www.mapledalecc.com
SUMMARY:Dinner Available - Saturday
DESCRIPTION:
URL:https://www.mapledalecc.com/event/dinner-available-saturdays/2029-03-10/
END:VEVENT
BEGIN:VEVENT
DTSTART;TZID=America/New_York:20290311T110000
DTEND;TZID=America/New_York:20290311T160000
DTSTAMP:20260421T182103
CREATED:20241122T145940Z
LAST-MODIFIED:20241122T145940Z
UID:10003327-1867921200-1867939200@www.mapledalecc.com
SUMMARY:Lunch Available - Sunday
DESCRIPTION:
URL:https://www.mapledalecc.com/event/lunch-available-sunday/2029-03-11/
END:VEVENT
BEGIN:VEVENT
DTSTART;TZID=America/New_York:20290312T000000
DTEND;TZID=America/New_York:20290312T000000
DTSTAMP:20260421T182103
CREATED:20241001T203438Z
LAST-MODIFIED:20260331T204152Z
UID:10006768-1867968000-1867968000@www.mapledalecc.com
SUMMARY:Dining Room Closed
DESCRIPTION:No food service on Mondays or Tuesdays during the winter months. \n  \n 
URL:https://www.mapledalecc.com/event/dining-room-closed/2029-03-12/
END:VEVENT
BEGIN:VEVENT
DTSTART;TZID=America/New_York:20290314T110000
DTEND;TZID=America/New_York:20290314T160000
DTSTAMP:20260421T182103
CREATED:20250102T165944Z
LAST-MODIFIED:20250102T170059Z
UID:10003586-1868180400-1868198400@www.mapledalecc.com
SUMMARY:Lunch Available - Wednesday
DESCRIPTION:
URL:https://www.mapledalecc.com/event/lunch-available-wednesday-2/2029-03-14/
END:VEVENT
BEGIN:VEVENT
DTSTART;TZID=America/New_York:20290314T160000
DTEND;TZID=America/New_York:20290314T210000
DTSTAMP:20260421T182103
CREATED:20250102T171316Z
LAST-MODIFIED:20250801T142106Z
UID:10003847-1868198400-1868216400@www.mapledalecc.com
SUMMARY:Dinner Available - Wednesday
DESCRIPTION:
URL:https://www.mapledalecc.com/event/dinner-available-wednesday/2029-03-14/
END:VEVENT
BEGIN:VEVENT
DTSTART;TZID=America/New_York:20290315T110000
DTEND;TZID=America/New_York:20290315T160000
DTSTAMP:20260421T182103
CREATED:20241122T144554Z
LAST-MODIFIED:20241122T144554Z
UID:10002281-1868266800-1868284800@www.mapledalecc.com
SUMMARY:Lunch Available - Thursday
DESCRIPTION:
URL:https://www.mapledalecc.com/event/lunch-available-thursday/2029-03-15/
END:VEVENT
BEGIN:VEVENT
DTSTART;TZID=America/New_York:20290315T160000
DTEND;TZID=America/New_York:20290315T210000
DTSTAMP:20260421T182103
CREATED:20250123T203339Z
LAST-MODIFIED:20250513T182749Z
UID:10004373-1868284800-1868302800@www.mapledalecc.com
SUMMARY:Dinner Available - Thursday
DESCRIPTION:
URL:https://www.mapledalecc.com/event/throwback-thursdays/2029-03-15/
END:VEVENT
BEGIN:VEVENT
DTSTART;TZID=America/New_York:20290316T110000
DTEND;TZID=America/New_York:20290316T160000
DTSTAMP:20260421T182103
CREATED:20241214T172509Z
LAST-MODIFIED:20241214T172509Z
UID:10002802-1868353200-1868371200@www.mapledalecc.com
SUMMARY:Lunch Service - Friday
DESCRIPTION:
URL:https://www.mapledalecc.com/event/lunch-service-friday-2/2029-03-16/
END:VEVENT
BEGIN:VEVENT
DTSTART;TZID=America/New_York:20290316T160000
DTEND;TZID=America/New_York:20290316T210000
DTSTAMP:20260421T182103
CREATED:20250402T164304Z
LAST-MODIFIED:20250402T164712Z
UID:10005963-1868371200-1868389200@www.mapledalecc.com
SUMMARY:Dinner Available - Fridays
DESCRIPTION:Prime Rib Night
URL:https://www.mapledalecc.com/event/dinner-available-fridays/2029-03-16/
END:VEVENT
BEGIN:VEVENT
DTSTART;TZID=America/New_York:20290317T110000
DTEND;TZID=America/New_York:20290317T160000
DTSTAMP:20260421T182103
CREATED:20241122T145406Z
LAST-MODIFIED:20241122T145406Z
UID:10003065-1868439600-1868457600@www.mapledalecc.com
SUMMARY:Lunch Available - Saturday
DESCRIPTION:
URL:https://www.mapledalecc.com/event/lunch-available-saturday/2029-03-17/
END:VEVENT
BEGIN:VEVENT
DTSTART;TZID=America/New_York:20290317T160000
DTEND;TZID=America/New_York:20290317T210000
DTSTAMP:20260421T182103
CREATED:20250402T163840Z
LAST-MODIFIED:20250402T164016Z
UID:10005705-1868457600-1868475600@www.mapledalecc.com
SUMMARY:Dinner Available - Saturday
DESCRIPTION:
URL:https://www.mapledalecc.com/event/dinner-available-saturdays/2029-03-17/
END:VEVENT
BEGIN:VEVENT
DTSTART;TZID=America/New_York:20290318T110000
DTEND;TZID=America/New_York:20290318T160000
DTSTAMP:20260421T182103
CREATED:20241122T145940Z
LAST-MODIFIED:20241122T145940Z
UID:10003328-1868526000-1868544000@www.mapledalecc.com
SUMMARY:Lunch Available - Sunday
DESCRIPTION:
URL:https://www.mapledalecc.com/event/lunch-available-sunday/2029-03-18/
END:VEVENT
BEGIN:VEVENT
DTSTART;TZID=America/New_York:20290319T000000
DTEND;TZID=America/New_York:20290319T000000
DTSTAMP:20260421T182103
CREATED:20241001T203438Z
LAST-MODIFIED:20260331T204152Z
UID:10006770-1868572800-1868572800@www.mapledalecc.com
SUMMARY:Dining Room Closed
DESCRIPTION:No food service on Mondays or Tuesdays during the winter months. \n  \n 
URL:https://www.mapledalecc.com/event/dining-room-closed/2029-03-19/
END:VEVENT
BEGIN:VEVENT
DTSTART;TZID=America/New_York:20290321T110000
DTEND;TZID=America/New_York:20290321T160000
DTSTAMP:20260421T182103
CREATED:20250102T165944Z
LAST-MODIFIED:20250102T170059Z
UID:10003587-1868785200-1868803200@www.mapledalecc.com
SUMMARY:Lunch Available - Wednesday
DESCRIPTION:
URL:https://www.mapledalecc.com/event/lunch-available-wednesday-2/2029-03-21/
END:VEVENT
BEGIN:VEVENT
DTSTART;TZID=America/New_York:20290321T160000
DTEND;TZID=America/New_York:20290321T210000
DTSTAMP:20260421T182103
CREATED:20250102T171316Z
LAST-MODIFIED:20250801T142106Z
UID:10003848-1868803200-1868821200@www.mapledalecc.com
SUMMARY:Dinner Available - Wednesday
DESCRIPTION:
URL:https://www.mapledalecc.com/event/dinner-available-wednesday/2029-03-21/
END:VEVENT
BEGIN:VEVENT
DTSTART;TZID=America/New_York:20290322T110000
DTEND;TZID=America/New_York:20290322T160000
DTSTAMP:20260421T182103
CREATED:20241122T144554Z
LAST-MODIFIED:20241122T144554Z
UID:10002282-1868871600-1868889600@www.mapledalecc.com
SUMMARY:Lunch Available - Thursday
DESCRIPTION:
URL:https://www.mapledalecc.com/event/lunch-available-thursday/2029-03-22/
END:VEVENT
BEGIN:VEVENT
DTSTART;TZID=America/New_York:20290322T160000
DTEND;TZID=America/New_York:20290322T210000
DTSTAMP:20260421T182103
CREATED:20250123T203339Z
LAST-MODIFIED:20250513T182749Z
UID:10004374-1868889600-1868907600@www.mapledalecc.com
SUMMARY:Dinner Available - Thursday
DESCRIPTION:
URL:https://www.mapledalecc.com/event/throwback-thursdays/2029-03-22/
END:VEVENT
BEGIN:VEVENT
DTSTART;TZID=America/New_York:20290323T110000
DTEND;TZID=America/New_York:20290323T160000
DTSTAMP:20260421T182103
CREATED:20241214T172509Z
LAST-MODIFIED:20241214T172509Z
UID:10002803-1868958000-1868976000@www.mapledalecc.com
SUMMARY:Lunch Service - Friday
DESCRIPTION:
URL:https://www.mapledalecc.com/event/lunch-service-friday-2/2029-03-23/
END:VEVENT
BEGIN:VEVENT
DTSTART;TZID=America/New_York:20290323T160000
DTEND;TZID=America/New_York:20290323T210000
DTSTAMP:20260421T182103
CREATED:20250402T164304Z
LAST-MODIFIED:20250402T164712Z
UID:10005964-1868976000-1868994000@www.mapledalecc.com
SUMMARY:Dinner Available - Fridays
DESCRIPTION:Prime Rib Night
URL:https://www.mapledalecc.com/event/dinner-available-fridays/2029-03-23/
END:VEVENT
BEGIN:VEVENT
DTSTART;TZID=America/New_York:20290324T110000
DTEND;TZID=America/New_York:20290324T160000
DTSTAMP:20260421T182103
CREATED:20241122T145406Z
LAST-MODIFIED:20241122T145406Z
UID:10003066-1869044400-1869062400@www.mapledalecc.com
SUMMARY:Lunch Available - Saturday
DESCRIPTION:
URL:https://www.mapledalecc.com/event/lunch-available-saturday/2029-03-24/
END:VEVENT
BEGIN:VEVENT
DTSTART;TZID=America/New_York:20290324T160000
DTEND;TZID=America/New_York:20290324T210000
DTSTAMP:20260421T182103
CREATED:20250402T163840Z
LAST-MODIFIED:20250402T164016Z
UID:10005706-1869062400-1869080400@www.mapledalecc.com
SUMMARY:Dinner Available - Saturday
DESCRIPTION:
URL:https://www.mapledalecc.com/event/dinner-available-saturdays/2029-03-24/
END:VEVENT
BEGIN:VEVENT
DTSTART;TZID=America/New_York:20290325T110000
DTEND;TZID=America/New_York:20290325T160000
DTSTAMP:20260421T182103
CREATED:20241122T145940Z
LAST-MODIFIED:20241122T145940Z
UID:10003329-1869130800-1869148800@www.mapledalecc.com
SUMMARY:Lunch Available - Sunday
DESCRIPTION:
URL:https://www.mapledalecc.com/event/lunch-available-sunday/2029-03-25/
END:VEVENT
BEGIN:VEVENT
DTSTART;TZID=America/New_York:20290326T000000
DTEND;TZID=America/New_York:20290326T000000
DTSTAMP:20260421T182103
CREATED:20241001T203438Z
LAST-MODIFIED:20260331T204152Z
UID:10006772-1869177600-1869177600@www.mapledalecc.com
SUMMARY:Dining Room Closed
DESCRIPTION:No food service on Mondays or Tuesdays during the winter months. \n  \n 
URL:https://www.mapledalecc.com/event/dining-room-closed/2029-03-26/
END:VEVENT
BEGIN:VEVENT
DTSTART;TZID=America/New_York:20290328T110000
DTEND;TZID=America/New_York:20290328T160000
DTSTAMP:20260421T182103
CREATED:20250102T165944Z
LAST-MODIFIED:20250102T170059Z
UID:10003588-1869390000-1869408000@www.mapledalecc.com
SUMMARY:Lunch Available - Wednesday
DESCRIPTION:
URL:https://www.mapledalecc.com/event/lunch-available-wednesday-2/2029-03-28/
END:VEVENT
BEGIN:VEVENT
DTSTART;TZID=America/New_York:20290328T160000
DTEND;TZID=America/New_York:20290328T210000
DTSTAMP:20260421T182103
CREATED:20250102T171316Z
LAST-MODIFIED:20250801T142106Z
UID:10003849-1869408000-1869426000@www.mapledalecc.com
SUMMARY:Dinner Available - Wednesday
DESCRIPTION:
URL:https://www.mapledalecc.com/event/dinner-available-wednesday/2029-03-28/
END:VEVENT
END:VCALENDAR