BEGIN:VCALENDAR
VERSION:2.0
PRODID:-//Maple Dale County Club - ECPv6.15.18//NONSGML v1.0//EN
CALSCALE:GREGORIAN
METHOD:PUBLISH
X-ORIGINAL-URL:https://www.mapledalecc.com
X-WR-CALDESC:Events for Maple Dale County Club
REFRESH-INTERVAL;VALUE=DURATION:PT1H
X-Robots-Tag:noindex
X-PUBLISHED-TTL:PT1H
BEGIN:VTIMEZONE
TZID:America/New_York
BEGIN:DAYLIGHT
TZOFFSETFROM:-0500
TZOFFSETTO:-0400
TZNAME:EDT
DTSTART:20280312T070000
END:DAYLIGHT
BEGIN:STANDARD
TZOFFSETFROM:-0400
TZOFFSETTO:-0500
TZNAME:EST
DTSTART:20281105T060000
END:STANDARD
BEGIN:DAYLIGHT
TZOFFSETFROM:-0500
TZOFFSETTO:-0400
TZNAME:EDT
DTSTART:20290311T070000
END:DAYLIGHT
BEGIN:STANDARD
TZOFFSETFROM:-0400
TZOFFSETTO:-0500
TZNAME:EST
DTSTART:20291104T060000
END:STANDARD
BEGIN:DAYLIGHT
TZOFFSETFROM:-0500
TZOFFSETTO:-0400
TZNAME:EDT
DTSTART:20300310T070000
END:DAYLIGHT
BEGIN:STANDARD
TZOFFSETFROM:-0400
TZOFFSETTO:-0500
TZNAME:EST
DTSTART:20301103T060000
END:STANDARD
END:VTIMEZONE
BEGIN:VEVENT
DTSTART;TZID=America/New_York:20290525T110000
DTEND;TZID=America/New_York:20290525T160000
DTSTAMP:20260425T162548
CREATED:20241214T172509Z
LAST-MODIFIED:20241214T172509Z
UID:10002812-1874401200-1874419200@www.mapledalecc.com
SUMMARY:Lunch Service - Friday
DESCRIPTION:
URL:https://www.mapledalecc.com/event/lunch-service-friday-2/2029-05-25/
END:VEVENT
BEGIN:VEVENT
DTSTART;TZID=America/New_York:20290525T160000
DTEND;TZID=America/New_York:20290525T210000
DTSTAMP:20260425T162548
CREATED:20250402T164304Z
LAST-MODIFIED:20250402T164712Z
UID:10005973-1874419200-1874437200@www.mapledalecc.com
SUMMARY:Dinner Available - Fridays
DESCRIPTION:Prime Rib Night
URL:https://www.mapledalecc.com/event/dinner-available-fridays/2029-05-25/
END:VEVENT
BEGIN:VEVENT
DTSTART;TZID=America/New_York:20290526T110000
DTEND;TZID=America/New_York:20290526T160000
DTSTAMP:20260425T162548
CREATED:20241122T145406Z
LAST-MODIFIED:20241122T145406Z
UID:10003075-1874487600-1874505600@www.mapledalecc.com
SUMMARY:Lunch Available - Saturday
DESCRIPTION:
URL:https://www.mapledalecc.com/event/lunch-available-saturday/2029-05-26/
END:VEVENT
BEGIN:VEVENT
DTSTART;TZID=America/New_York:20290526T160000
DTEND;TZID=America/New_York:20290526T210000
DTSTAMP:20260425T162548
CREATED:20250402T163840Z
LAST-MODIFIED:20250402T164016Z
UID:10005715-1874505600-1874523600@www.mapledalecc.com
SUMMARY:Dinner Available - Saturday
DESCRIPTION:
URL:https://www.mapledalecc.com/event/dinner-available-saturdays/2029-05-26/
END:VEVENT
BEGIN:VEVENT
DTSTART;TZID=America/New_York:20290527T110000
DTEND;TZID=America/New_York:20290527T160000
DTSTAMP:20260425T162548
CREATED:20241122T145940Z
LAST-MODIFIED:20241122T145940Z
UID:10003338-1874574000-1874592000@www.mapledalecc.com
SUMMARY:Lunch Available - Sunday
DESCRIPTION:
URL:https://www.mapledalecc.com/event/lunch-available-sunday/2029-05-27/
END:VEVENT
BEGIN:VEVENT
DTSTART;TZID=America/New_York:20290528T000000
DTEND;TZID=America/New_York:20290528T000000
DTSTAMP:20260425T162548
CREATED:20241001T203438Z
LAST-MODIFIED:20260331T204152Z
UID:10006790-1874620800-1874620800@www.mapledalecc.com
SUMMARY:Dining Room Closed
DESCRIPTION:No food service on Mondays or Tuesdays during the winter months. \n  \n 
URL:https://www.mapledalecc.com/event/dining-room-closed/2029-05-28/
END:VEVENT
BEGIN:VEVENT
DTSTART;TZID=America/New_York:20290530T110000
DTEND;TZID=America/New_York:20290530T160000
DTSTAMP:20260425T162548
CREATED:20250102T165944Z
LAST-MODIFIED:20250102T170059Z
UID:10003597-1874833200-1874851200@www.mapledalecc.com
SUMMARY:Lunch Available - Wednesday
DESCRIPTION:
URL:https://www.mapledalecc.com/event/lunch-available-wednesday-2/2029-05-30/
END:VEVENT
BEGIN:VEVENT
DTSTART;TZID=America/New_York:20290530T160000
DTEND;TZID=America/New_York:20290530T210000
DTSTAMP:20260425T162548
CREATED:20250102T171316Z
LAST-MODIFIED:20250801T142106Z
UID:10003858-1874851200-1874869200@www.mapledalecc.com
SUMMARY:Dinner Available - Wednesday
DESCRIPTION:
URL:https://www.mapledalecc.com/event/dinner-available-wednesday/2029-05-30/
END:VEVENT
BEGIN:VEVENT
DTSTART;TZID=America/New_York:20290531T110000
DTEND;TZID=America/New_York:20290531T160000
DTSTAMP:20260425T162548
CREATED:20241122T144554Z
LAST-MODIFIED:20241122T144554Z
UID:10002292-1874919600-1874937600@www.mapledalecc.com
SUMMARY:Lunch Available - Thursday
DESCRIPTION:
URL:https://www.mapledalecc.com/event/lunch-available-thursday/2029-05-31/
END:VEVENT
BEGIN:VEVENT
DTSTART;TZID=America/New_York:20290531T160000
DTEND;TZID=America/New_York:20290531T210000
DTSTAMP:20260425T162548
CREATED:20250123T203339Z
LAST-MODIFIED:20250513T182749Z
UID:10004384-1874937600-1874955600@www.mapledalecc.com
SUMMARY:Dinner Available - Thursday
DESCRIPTION:
URL:https://www.mapledalecc.com/event/throwback-thursdays/2029-05-31/
END:VEVENT
BEGIN:VEVENT
DTSTART;TZID=America/New_York:20290601T110000
DTEND;TZID=America/New_York:20290601T160000
DTSTAMP:20260425T162548
CREATED:20241214T172509Z
LAST-MODIFIED:20241214T172509Z
UID:10002813-1875006000-1875024000@www.mapledalecc.com
SUMMARY:Lunch Service - Friday
DESCRIPTION:
URL:https://www.mapledalecc.com/event/lunch-service-friday-2/2029-06-01/
END:VEVENT
BEGIN:VEVENT
DTSTART;TZID=America/New_York:20290601T160000
DTEND;TZID=America/New_York:20290601T210000
DTSTAMP:20260425T162548
CREATED:20250402T164304Z
LAST-MODIFIED:20250402T164712Z
UID:10005974-1875024000-1875042000@www.mapledalecc.com
SUMMARY:Dinner Available - Fridays
DESCRIPTION:Prime Rib Night
URL:https://www.mapledalecc.com/event/dinner-available-fridays/2029-06-01/
END:VEVENT
BEGIN:VEVENT
DTSTART;TZID=America/New_York:20290602T110000
DTEND;TZID=America/New_York:20290602T160000
DTSTAMP:20260425T162548
CREATED:20241122T145406Z
LAST-MODIFIED:20241122T145406Z
UID:10003076-1875092400-1875110400@www.mapledalecc.com
SUMMARY:Lunch Available - Saturday
DESCRIPTION:
URL:https://www.mapledalecc.com/event/lunch-available-saturday/2029-06-02/
END:VEVENT
BEGIN:VEVENT
DTSTART;TZID=America/New_York:20290602T160000
DTEND;TZID=America/New_York:20290602T210000
DTSTAMP:20260425T162548
CREATED:20250402T163840Z
LAST-MODIFIED:20250402T164016Z
UID:10005716-1875110400-1875128400@www.mapledalecc.com
SUMMARY:Dinner Available - Saturday
DESCRIPTION:
URL:https://www.mapledalecc.com/event/dinner-available-saturdays/2029-06-02/
END:VEVENT
BEGIN:VEVENT
DTSTART;TZID=America/New_York:20290603T110000
DTEND;TZID=America/New_York:20290603T160000
DTSTAMP:20260425T162548
CREATED:20241122T145940Z
LAST-MODIFIED:20241122T145940Z
UID:10003339-1875178800-1875196800@www.mapledalecc.com
SUMMARY:Lunch Available - Sunday
DESCRIPTION:
URL:https://www.mapledalecc.com/event/lunch-available-sunday/2029-06-03/
END:VEVENT
BEGIN:VEVENT
DTSTART;TZID=America/New_York:20290604T000000
DTEND;TZID=America/New_York:20290604T000000
DTSTAMP:20260425T162548
CREATED:20241001T203438Z
LAST-MODIFIED:20260331T204152Z
UID:10006792-1875225600-1875225600@www.mapledalecc.com
SUMMARY:Dining Room Closed
DESCRIPTION:No food service on Mondays or Tuesdays during the winter months. \n  \n 
URL:https://www.mapledalecc.com/event/dining-room-closed/2029-06-04/
END:VEVENT
BEGIN:VEVENT
DTSTART;TZID=America/New_York:20290606T110000
DTEND;TZID=America/New_York:20290606T160000
DTSTAMP:20260425T162548
CREATED:20250102T165944Z
LAST-MODIFIED:20250102T170059Z
UID:10003598-1875438000-1875456000@www.mapledalecc.com
SUMMARY:Lunch Available - Wednesday
DESCRIPTION:
URL:https://www.mapledalecc.com/event/lunch-available-wednesday-2/2029-06-06/
END:VEVENT
BEGIN:VEVENT
DTSTART;TZID=America/New_York:20290606T160000
DTEND;TZID=America/New_York:20290606T210000
DTSTAMP:20260425T162548
CREATED:20250102T171316Z
LAST-MODIFIED:20250801T142106Z
UID:10003859-1875456000-1875474000@www.mapledalecc.com
SUMMARY:Dinner Available - Wednesday
DESCRIPTION:
URL:https://www.mapledalecc.com/event/dinner-available-wednesday/2029-06-06/
END:VEVENT
BEGIN:VEVENT
DTSTART;TZID=America/New_York:20290607T110000
DTEND;TZID=America/New_York:20290607T160000
DTSTAMP:20260425T162548
CREATED:20241122T144554Z
LAST-MODIFIED:20241122T144554Z
UID:10002293-1875524400-1875542400@www.mapledalecc.com
SUMMARY:Lunch Available - Thursday
DESCRIPTION:
URL:https://www.mapledalecc.com/event/lunch-available-thursday/2029-06-07/
END:VEVENT
BEGIN:VEVENT
DTSTART;TZID=America/New_York:20290607T160000
DTEND;TZID=America/New_York:20290607T210000
DTSTAMP:20260425T162548
CREATED:20250123T203339Z
LAST-MODIFIED:20250513T182749Z
UID:10004385-1875542400-1875560400@www.mapledalecc.com
SUMMARY:Dinner Available - Thursday
DESCRIPTION:
URL:https://www.mapledalecc.com/event/throwback-thursdays/2029-06-07/
END:VEVENT
BEGIN:VEVENT
DTSTART;TZID=America/New_York:20290608T110000
DTEND;TZID=America/New_York:20290608T160000
DTSTAMP:20260425T162548
CREATED:20241214T172509Z
LAST-MODIFIED:20241214T172509Z
UID:10002814-1875610800-1875628800@www.mapledalecc.com
SUMMARY:Lunch Service - Friday
DESCRIPTION:
URL:https://www.mapledalecc.com/event/lunch-service-friday-2/2029-06-08/
END:VEVENT
BEGIN:VEVENT
DTSTART;TZID=America/New_York:20290608T160000
DTEND;TZID=America/New_York:20290608T210000
DTSTAMP:20260425T162548
CREATED:20250402T164304Z
LAST-MODIFIED:20250402T164712Z
UID:10005975-1875628800-1875646800@www.mapledalecc.com
SUMMARY:Dinner Available - Fridays
DESCRIPTION:Prime Rib Night
URL:https://www.mapledalecc.com/event/dinner-available-fridays/2029-06-08/
END:VEVENT
BEGIN:VEVENT
DTSTART;TZID=America/New_York:20290609T110000
DTEND;TZID=America/New_York:20290609T160000
DTSTAMP:20260425T162548
CREATED:20241122T145406Z
LAST-MODIFIED:20241122T145406Z
UID:10003077-1875697200-1875715200@www.mapledalecc.com
SUMMARY:Lunch Available - Saturday
DESCRIPTION:
URL:https://www.mapledalecc.com/event/lunch-available-saturday/2029-06-09/
END:VEVENT
BEGIN:VEVENT
DTSTART;TZID=America/New_York:20290609T160000
DTEND;TZID=America/New_York:20290609T210000
DTSTAMP:20260425T162548
CREATED:20250402T163840Z
LAST-MODIFIED:20250402T164016Z
UID:10005717-1875715200-1875733200@www.mapledalecc.com
SUMMARY:Dinner Available - Saturday
DESCRIPTION:
URL:https://www.mapledalecc.com/event/dinner-available-saturdays/2029-06-09/
END:VEVENT
BEGIN:VEVENT
DTSTART;TZID=America/New_York:20290610T110000
DTEND;TZID=America/New_York:20290610T160000
DTSTAMP:20260425T162548
CREATED:20241122T145940Z
LAST-MODIFIED:20241122T145940Z
UID:10003340-1875783600-1875801600@www.mapledalecc.com
SUMMARY:Lunch Available - Sunday
DESCRIPTION:
URL:https://www.mapledalecc.com/event/lunch-available-sunday/2029-06-10/
END:VEVENT
BEGIN:VEVENT
DTSTART;TZID=America/New_York:20290611T000000
DTEND;TZID=America/New_York:20290611T000000
DTSTAMP:20260425T162548
CREATED:20241001T203438Z
LAST-MODIFIED:20260331T204152Z
UID:10006794-1875830400-1875830400@www.mapledalecc.com
SUMMARY:Dining Room Closed
DESCRIPTION:No food service on Mondays or Tuesdays during the winter months. \n  \n 
URL:https://www.mapledalecc.com/event/dining-room-closed/2029-06-11/
END:VEVENT
BEGIN:VEVENT
DTSTART;TZID=America/New_York:20290613T110000
DTEND;TZID=America/New_York:20290613T160000
DTSTAMP:20260425T162548
CREATED:20250102T165944Z
LAST-MODIFIED:20250102T170059Z
UID:10003599-1876042800-1876060800@www.mapledalecc.com
SUMMARY:Lunch Available - Wednesday
DESCRIPTION:
URL:https://www.mapledalecc.com/event/lunch-available-wednesday-2/2029-06-13/
END:VEVENT
BEGIN:VEVENT
DTSTART;TZID=America/New_York:20290613T160000
DTEND;TZID=America/New_York:20290613T210000
DTSTAMP:20260425T162548
CREATED:20250102T171316Z
LAST-MODIFIED:20250801T142106Z
UID:10003860-1876060800-1876078800@www.mapledalecc.com
SUMMARY:Dinner Available - Wednesday
DESCRIPTION:
URL:https://www.mapledalecc.com/event/dinner-available-wednesday/2029-06-13/
END:VEVENT
BEGIN:VEVENT
DTSTART;TZID=America/New_York:20290614T110000
DTEND;TZID=America/New_York:20290614T160000
DTSTAMP:20260425T162548
CREATED:20241122T144554Z
LAST-MODIFIED:20241122T144554Z
UID:10002294-1876129200-1876147200@www.mapledalecc.com
SUMMARY:Lunch Available - Thursday
DESCRIPTION:
URL:https://www.mapledalecc.com/event/lunch-available-thursday/2029-06-14/
END:VEVENT
BEGIN:VEVENT
DTSTART;TZID=America/New_York:20290614T160000
DTEND;TZID=America/New_York:20290614T210000
DTSTAMP:20260425T162548
CREATED:20250123T203339Z
LAST-MODIFIED:20250513T182749Z
UID:10004386-1876147200-1876165200@www.mapledalecc.com
SUMMARY:Dinner Available - Thursday
DESCRIPTION:
URL:https://www.mapledalecc.com/event/throwback-thursdays/2029-06-14/
END:VEVENT
END:VCALENDAR