BEGIN:VCALENDAR
VERSION:2.0
PRODID:-//Maple Dale County Club - ECPv6.15.18//NONSGML v1.0//EN
CALSCALE:GREGORIAN
METHOD:PUBLISH
X-WR-CALNAME:Maple Dale County Club
X-ORIGINAL-URL:https://www.mapledalecc.com
X-WR-CALDESC:Events for Maple Dale County Club
REFRESH-INTERVAL;VALUE=DURATION:PT1H
X-Robots-Tag:noindex
X-PUBLISHED-TTL:PT1H
BEGIN:VTIMEZONE
TZID:America/New_York
BEGIN:DAYLIGHT
TZOFFSETFROM:-0500
TZOFFSETTO:-0400
TZNAME:EDT
DTSTART:20250309T070000
END:DAYLIGHT
BEGIN:STANDARD
TZOFFSETFROM:-0400
TZOFFSETTO:-0500
TZNAME:EST
DTSTART:20251102T060000
END:STANDARD
BEGIN:DAYLIGHT
TZOFFSETFROM:-0500
TZOFFSETTO:-0400
TZNAME:EDT
DTSTART:20260308T070000
END:DAYLIGHT
BEGIN:STANDARD
TZOFFSETFROM:-0400
TZOFFSETTO:-0500
TZNAME:EST
DTSTART:20261101T060000
END:STANDARD
BEGIN:DAYLIGHT
TZOFFSETFROM:-0500
TZOFFSETTO:-0400
TZNAME:EDT
DTSTART:20270314T070000
END:DAYLIGHT
BEGIN:STANDARD
TZOFFSETFROM:-0400
TZOFFSETTO:-0500
TZNAME:EST
DTSTART:20271107T060000
END:STANDARD
BEGIN:DAYLIGHT
TZOFFSETFROM:-0500
TZOFFSETTO:-0400
TZNAME:EDT
DTSTART:20280312T070000
END:DAYLIGHT
BEGIN:STANDARD
TZOFFSETFROM:-0400
TZOFFSETTO:-0500
TZNAME:EST
DTSTART:20281105T060000
END:STANDARD
END:VTIMEZONE
BEGIN:VEVENT
DTSTART;TZID=America/New_York:20260717T110000
DTEND;TZID=America/New_York:20260717T160000
DTSTAMP:20260420T020301
CREATED:20241214T172509Z
LAST-MODIFIED:20241214T172509Z
UID:10002663-1784286000-1784304000@www.mapledalecc.com
SUMMARY:Lunch Service - Friday
DESCRIPTION:
URL:https://www.mapledalecc.com/event/lunch-service-friday-2/2026-07-17/
END:VEVENT
BEGIN:VEVENT
DTSTART;TZID=America/New_York:20260724T110000
DTEND;TZID=America/New_York:20260724T160000
DTSTAMP:20260420T020301
CREATED:20241214T172509Z
LAST-MODIFIED:20241214T172509Z
UID:10002664-1784890800-1784908800@www.mapledalecc.com
SUMMARY:Lunch Service - Friday
DESCRIPTION:
URL:https://www.mapledalecc.com/event/lunch-service-friday-2/2026-07-24/
END:VEVENT
BEGIN:VEVENT
DTSTART;TZID=America/New_York:20260731T110000
DTEND;TZID=America/New_York:20260731T160000
DTSTAMP:20260420T020301
CREATED:20241214T172509Z
LAST-MODIFIED:20241214T172509Z
UID:10002665-1785495600-1785513600@www.mapledalecc.com
SUMMARY:Lunch Service - Friday
DESCRIPTION:
URL:https://www.mapledalecc.com/event/lunch-service-friday-2/2026-07-31/
END:VEVENT
BEGIN:VEVENT
DTSTART;TZID=America/New_York:20260807T110000
DTEND;TZID=America/New_York:20260807T160000
DTSTAMP:20260420T020301
CREATED:20241214T172509Z
LAST-MODIFIED:20241214T172509Z
UID:10002666-1786100400-1786118400@www.mapledalecc.com
SUMMARY:Lunch Service - Friday
DESCRIPTION:
URL:https://www.mapledalecc.com/event/lunch-service-friday-2/2026-08-07/
END:VEVENT
BEGIN:VEVENT
DTSTART;TZID=America/New_York:20260814T110000
DTEND;TZID=America/New_York:20260814T160000
DTSTAMP:20260420T020301
CREATED:20241214T172509Z
LAST-MODIFIED:20241214T172509Z
UID:10002667-1786705200-1786723200@www.mapledalecc.com
SUMMARY:Lunch Service - Friday
DESCRIPTION:
URL:https://www.mapledalecc.com/event/lunch-service-friday-2/2026-08-14/
END:VEVENT
BEGIN:VEVENT
DTSTART;TZID=America/New_York:20260821T110000
DTEND;TZID=America/New_York:20260821T160000
DTSTAMP:20260420T020301
CREATED:20241214T172509Z
LAST-MODIFIED:20241214T172509Z
UID:10002668-1787310000-1787328000@www.mapledalecc.com
SUMMARY:Lunch Service - Friday
DESCRIPTION:
URL:https://www.mapledalecc.com/event/lunch-service-friday-2/2026-08-21/
END:VEVENT
BEGIN:VEVENT
DTSTART;TZID=America/New_York:20260828T110000
DTEND;TZID=America/New_York:20260828T160000
DTSTAMP:20260420T020301
CREATED:20241214T172509Z
LAST-MODIFIED:20241214T172509Z
UID:10002669-1787914800-1787932800@www.mapledalecc.com
SUMMARY:Lunch Service - Friday
DESCRIPTION:
URL:https://www.mapledalecc.com/event/lunch-service-friday-2/2026-08-28/
END:VEVENT
BEGIN:VEVENT
DTSTART;TZID=America/New_York:20260904T110000
DTEND;TZID=America/New_York:20260904T160000
DTSTAMP:20260420T020301
CREATED:20241214T172509Z
LAST-MODIFIED:20241214T172509Z
UID:10002670-1788519600-1788537600@www.mapledalecc.com
SUMMARY:Lunch Service - Friday
DESCRIPTION:
URL:https://www.mapledalecc.com/event/lunch-service-friday-2/2026-09-04/
END:VEVENT
BEGIN:VEVENT
DTSTART;TZID=America/New_York:20260911T110000
DTEND;TZID=America/New_York:20260911T160000
DTSTAMP:20260420T020301
CREATED:20241214T172509Z
LAST-MODIFIED:20241214T172509Z
UID:10002671-1789124400-1789142400@www.mapledalecc.com
SUMMARY:Lunch Service - Friday
DESCRIPTION:
URL:https://www.mapledalecc.com/event/lunch-service-friday-2/2026-09-11/
END:VEVENT
BEGIN:VEVENT
DTSTART;TZID=America/New_York:20260918T110000
DTEND;TZID=America/New_York:20260918T160000
DTSTAMP:20260420T020301
CREATED:20241214T172509Z
LAST-MODIFIED:20241214T172509Z
UID:10002672-1789729200-1789747200@www.mapledalecc.com
SUMMARY:Lunch Service - Friday
DESCRIPTION:
URL:https://www.mapledalecc.com/event/lunch-service-friday-2/2026-09-18/
END:VEVENT
BEGIN:VEVENT
DTSTART;TZID=America/New_York:20260925T110000
DTEND;TZID=America/New_York:20260925T160000
DTSTAMP:20260420T020301
CREATED:20241214T172509Z
LAST-MODIFIED:20241214T172509Z
UID:10002673-1790334000-1790352000@www.mapledalecc.com
SUMMARY:Lunch Service - Friday
DESCRIPTION:
URL:https://www.mapledalecc.com/event/lunch-service-friday-2/2026-09-25/
END:VEVENT
BEGIN:VEVENT
DTSTART;TZID=America/New_York:20261002T110000
DTEND;TZID=America/New_York:20261002T160000
DTSTAMP:20260420T020301
CREATED:20241214T172509Z
LAST-MODIFIED:20241214T172509Z
UID:10002674-1790938800-1790956800@www.mapledalecc.com
SUMMARY:Lunch Service - Friday
DESCRIPTION:
URL:https://www.mapledalecc.com/event/lunch-service-friday-2/2026-10-02/
END:VEVENT
BEGIN:VEVENT
DTSTART;TZID=America/New_York:20261009T110000
DTEND;TZID=America/New_York:20261009T160000
DTSTAMP:20260420T020301
CREATED:20241214T172509Z
LAST-MODIFIED:20241214T172509Z
UID:10002675-1791543600-1791561600@www.mapledalecc.com
SUMMARY:Lunch Service - Friday
DESCRIPTION:
URL:https://www.mapledalecc.com/event/lunch-service-friday-2/2026-10-09/
END:VEVENT
BEGIN:VEVENT
DTSTART;TZID=America/New_York:20261016T110000
DTEND;TZID=America/New_York:20261016T160000
DTSTAMP:20260420T020301
CREATED:20241214T172509Z
LAST-MODIFIED:20241214T172509Z
UID:10002676-1792148400-1792166400@www.mapledalecc.com
SUMMARY:Lunch Service - Friday
DESCRIPTION:
URL:https://www.mapledalecc.com/event/lunch-service-friday-2/2026-10-16/
END:VEVENT
BEGIN:VEVENT
DTSTART;TZID=America/New_York:20261023T110000
DTEND;TZID=America/New_York:20261023T160000
DTSTAMP:20260420T020301
CREATED:20241214T172509Z
LAST-MODIFIED:20241214T172509Z
UID:10002677-1792753200-1792771200@www.mapledalecc.com
SUMMARY:Lunch Service - Friday
DESCRIPTION:
URL:https://www.mapledalecc.com/event/lunch-service-friday-2/2026-10-23/
END:VEVENT
BEGIN:VEVENT
DTSTART;TZID=America/New_York:20261030T110000
DTEND;TZID=America/New_York:20261030T160000
DTSTAMP:20260420T020301
CREATED:20241214T172509Z
LAST-MODIFIED:20241214T172509Z
UID:10002678-1793358000-1793376000@www.mapledalecc.com
SUMMARY:Lunch Service - Friday
DESCRIPTION:
URL:https://www.mapledalecc.com/event/lunch-service-friday-2/2026-10-30/
END:VEVENT
BEGIN:VEVENT
DTSTART;TZID=America/New_York:20261106T110000
DTEND;TZID=America/New_York:20261106T160000
DTSTAMP:20260420T020301
CREATED:20241214T172509Z
LAST-MODIFIED:20241214T172509Z
UID:10002679-1793962800-1793980800@www.mapledalecc.com
SUMMARY:Lunch Service - Friday
DESCRIPTION:
URL:https://www.mapledalecc.com/event/lunch-service-friday-2/2026-11-06/
END:VEVENT
BEGIN:VEVENT
DTSTART;TZID=America/New_York:20261113T110000
DTEND;TZID=America/New_York:20261113T160000
DTSTAMP:20260420T020301
CREATED:20241214T172509Z
LAST-MODIFIED:20241214T172509Z
UID:10002680-1794567600-1794585600@www.mapledalecc.com
SUMMARY:Lunch Service - Friday
DESCRIPTION:
URL:https://www.mapledalecc.com/event/lunch-service-friday-2/2026-11-13/
END:VEVENT
BEGIN:VEVENT
DTSTART;TZID=America/New_York:20261120T110000
DTEND;TZID=America/New_York:20261120T160000
DTSTAMP:20260420T020301
CREATED:20241214T172509Z
LAST-MODIFIED:20241214T172509Z
UID:10002681-1795172400-1795190400@www.mapledalecc.com
SUMMARY:Lunch Service - Friday
DESCRIPTION:
URL:https://www.mapledalecc.com/event/lunch-service-friday-2/2026-11-20/
END:VEVENT
BEGIN:VEVENT
DTSTART;TZID=America/New_York:20261127T110000
DTEND;TZID=America/New_York:20261127T160000
DTSTAMP:20260420T020301
CREATED:20241214T172509Z
LAST-MODIFIED:20241214T172509Z
UID:10002682-1795777200-1795795200@www.mapledalecc.com
SUMMARY:Lunch Service - Friday
DESCRIPTION:
URL:https://www.mapledalecc.com/event/lunch-service-friday-2/2026-11-27/
END:VEVENT
BEGIN:VEVENT
DTSTART;TZID=America/New_York:20261204T110000
DTEND;TZID=America/New_York:20261204T160000
DTSTAMP:20260420T020301
CREATED:20241214T172509Z
LAST-MODIFIED:20241214T172509Z
UID:10002683-1796382000-1796400000@www.mapledalecc.com
SUMMARY:Lunch Service - Friday
DESCRIPTION:
URL:https://www.mapledalecc.com/event/lunch-service-friday-2/2026-12-04/
END:VEVENT
BEGIN:VEVENT
DTSTART;TZID=America/New_York:20261211T110000
DTEND;TZID=America/New_York:20261211T160000
DTSTAMP:20260420T020301
CREATED:20241214T172509Z
LAST-MODIFIED:20241214T172509Z
UID:10002684-1796986800-1797004800@www.mapledalecc.com
SUMMARY:Lunch Service - Friday
DESCRIPTION:
URL:https://www.mapledalecc.com/event/lunch-service-friday-2/2026-12-11/
END:VEVENT
BEGIN:VEVENT
DTSTART;TZID=America/New_York:20261218T110000
DTEND;TZID=America/New_York:20261218T160000
DTSTAMP:20260420T020301
CREATED:20241214T172509Z
LAST-MODIFIED:20241214T172509Z
UID:10002685-1797591600-1797609600@www.mapledalecc.com
SUMMARY:Lunch Service - Friday
DESCRIPTION:
URL:https://www.mapledalecc.com/event/lunch-service-friday-2/2026-12-18/
END:VEVENT
BEGIN:VEVENT
DTSTART;TZID=America/New_York:20261225T110000
DTEND;TZID=America/New_York:20261225T160000
DTSTAMP:20260420T020301
CREATED:20241214T172509Z
LAST-MODIFIED:20241214T172509Z
UID:10002686-1798196400-1798214400@www.mapledalecc.com
SUMMARY:Lunch Service - Friday
DESCRIPTION:
URL:https://www.mapledalecc.com/event/lunch-service-friday-2/2026-12-25/
END:VEVENT
BEGIN:VEVENT
DTSTART;TZID=America/New_York:20270101T110000
DTEND;TZID=America/New_York:20270101T160000
DTSTAMP:20260420T020301
CREATED:20241214T172509Z
LAST-MODIFIED:20241214T172509Z
UID:10002687-1798801200-1798819200@www.mapledalecc.com
SUMMARY:Lunch Service - Friday
DESCRIPTION:
URL:https://www.mapledalecc.com/event/lunch-service-friday-2/2027-01-01/
END:VEVENT
BEGIN:VEVENT
DTSTART;TZID=America/New_York:20270108T110000
DTEND;TZID=America/New_York:20270108T160000
DTSTAMP:20260420T020301
CREATED:20241214T172509Z
LAST-MODIFIED:20241214T172509Z
UID:10002688-1799406000-1799424000@www.mapledalecc.com
SUMMARY:Lunch Service - Friday
DESCRIPTION:
URL:https://www.mapledalecc.com/event/lunch-service-friday-2/2027-01-08/
END:VEVENT
BEGIN:VEVENT
DTSTART;TZID=America/New_York:20270115T110000
DTEND;TZID=America/New_York:20270115T160000
DTSTAMP:20260420T020301
CREATED:20241214T172509Z
LAST-MODIFIED:20241214T172509Z
UID:10002689-1800010800-1800028800@www.mapledalecc.com
SUMMARY:Lunch Service - Friday
DESCRIPTION:
URL:https://www.mapledalecc.com/event/lunch-service-friday-2/2027-01-15/
END:VEVENT
BEGIN:VEVENT
DTSTART;TZID=America/New_York:20270122T110000
DTEND;TZID=America/New_York:20270122T160000
DTSTAMP:20260420T020301
CREATED:20241214T172509Z
LAST-MODIFIED:20241214T172509Z
UID:10002690-1800615600-1800633600@www.mapledalecc.com
SUMMARY:Lunch Service - Friday
DESCRIPTION:
URL:https://www.mapledalecc.com/event/lunch-service-friday-2/2027-01-22/
END:VEVENT
BEGIN:VEVENT
DTSTART;TZID=America/New_York:20270129T110000
DTEND;TZID=America/New_York:20270129T160000
DTSTAMP:20260420T020301
CREATED:20241214T172509Z
LAST-MODIFIED:20241214T172509Z
UID:10002691-1801220400-1801238400@www.mapledalecc.com
SUMMARY:Lunch Service - Friday
DESCRIPTION:
URL:https://www.mapledalecc.com/event/lunch-service-friday-2/2027-01-29/
END:VEVENT
BEGIN:VEVENT
DTSTART;TZID=America/New_York:20270205T110000
DTEND;TZID=America/New_York:20270205T160000
DTSTAMP:20260420T020301
CREATED:20241214T172509Z
LAST-MODIFIED:20241214T172509Z
UID:10002692-1801825200-1801843200@www.mapledalecc.com
SUMMARY:Lunch Service - Friday
DESCRIPTION:
URL:https://www.mapledalecc.com/event/lunch-service-friday-2/2027-02-05/
END:VEVENT
END:VCALENDAR