BEGIN:VCALENDAR
VERSION:2.0
PRODID:-//Maple Dale County Club - ECPv6.15.18//NONSGML v1.0//EN
CALSCALE:GREGORIAN
METHOD:PUBLISH
X-ORIGINAL-URL:https://www.mapledalecc.com
X-WR-CALDESC:Events for Maple Dale County Club
REFRESH-INTERVAL;VALUE=DURATION:PT1H
X-Robots-Tag:noindex
X-PUBLISHED-TTL:PT1H
BEGIN:VTIMEZONE
TZID:America/New_York
BEGIN:DAYLIGHT
TZOFFSETFROM:-0500
TZOFFSETTO:-0400
TZNAME:EDT
DTSTART:20290311T070000
END:DAYLIGHT
BEGIN:STANDARD
TZOFFSETFROM:-0400
TZOFFSETTO:-0500
TZNAME:EST
DTSTART:20291104T060000
END:STANDARD
BEGIN:DAYLIGHT
TZOFFSETFROM:-0500
TZOFFSETTO:-0400
TZNAME:EDT
DTSTART:20300310T070000
END:DAYLIGHT
BEGIN:STANDARD
TZOFFSETFROM:-0400
TZOFFSETTO:-0500
TZNAME:EST
DTSTART:20301103T060000
END:STANDARD
BEGIN:DAYLIGHT
TZOFFSETFROM:-0500
TZOFFSETTO:-0400
TZNAME:EDT
DTSTART:20310309T070000
END:DAYLIGHT
BEGIN:STANDARD
TZOFFSETFROM:-0400
TZOFFSETTO:-0500
TZNAME:EST
DTSTART:20311102T060000
END:STANDARD
END:VTIMEZONE
BEGIN:VEVENT
DTSTART;TZID=America/New_York:20300325T000000
DTEND;TZID=America/New_York:20300325T000000
DTSTAMP:20260420T183832
CREATED:20241001T203438Z
LAST-MODIFIED:20260331T204152Z
UID:10006876-1900627200-1900627200@www.mapledalecc.com
SUMMARY:Dining Room Closed
DESCRIPTION:No food service on Mondays or Tuesdays during the winter months. \n  \n 
URL:https://www.mapledalecc.com/event/dining-room-closed/2030-03-25/
END:VEVENT
BEGIN:VEVENT
DTSTART;TZID=America/New_York:20300401T000000
DTEND;TZID=America/New_York:20300401T000000
DTSTAMP:20260420T183832
CREATED:20241001T203438Z
LAST-MODIFIED:20260331T204152Z
UID:10006878-1901232000-1901232000@www.mapledalecc.com
SUMMARY:Dining Room Closed
DESCRIPTION:No food service on Mondays or Tuesdays during the winter months. \n  \n 
URL:https://www.mapledalecc.com/event/dining-room-closed/2030-04-01/
END:VEVENT
BEGIN:VEVENT
DTSTART;TZID=America/New_York:20300408T000000
DTEND;TZID=America/New_York:20300408T000000
DTSTAMP:20260420T183832
CREATED:20241001T203438Z
LAST-MODIFIED:20260331T204152Z
UID:10006880-1901836800-1901836800@www.mapledalecc.com
SUMMARY:Dining Room Closed
DESCRIPTION:No food service on Mondays or Tuesdays during the winter months. \n  \n 
URL:https://www.mapledalecc.com/event/dining-room-closed/2030-04-08/
END:VEVENT
BEGIN:VEVENT
DTSTART;TZID=America/New_York:20300415T000000
DTEND;TZID=America/New_York:20300415T000000
DTSTAMP:20260420T183833
CREATED:20241001T203438Z
LAST-MODIFIED:20260331T204152Z
UID:10006882-1902441600-1902441600@www.mapledalecc.com
SUMMARY:Dining Room Closed
DESCRIPTION:No food service on Mondays or Tuesdays during the winter months. \n  \n 
URL:https://www.mapledalecc.com/event/dining-room-closed/2030-04-15/
END:VEVENT
BEGIN:VEVENT
DTSTART;TZID=America/New_York:20300422T000000
DTEND;TZID=America/New_York:20300422T000000
DTSTAMP:20260420T183833
CREATED:20241001T203438Z
LAST-MODIFIED:20260331T204152Z
UID:10006884-1903046400-1903046400@www.mapledalecc.com
SUMMARY:Dining Room Closed
DESCRIPTION:No food service on Mondays or Tuesdays during the winter months. \n  \n 
URL:https://www.mapledalecc.com/event/dining-room-closed/2030-04-22/
END:VEVENT
BEGIN:VEVENT
DTSTART;TZID=America/New_York:20300429T000000
DTEND;TZID=America/New_York:20300429T000000
DTSTAMP:20260420T183833
CREATED:20241001T203438Z
LAST-MODIFIED:20260331T204152Z
UID:10006886-1903651200-1903651200@www.mapledalecc.com
SUMMARY:Dining Room Closed
DESCRIPTION:No food service on Mondays or Tuesdays during the winter months. \n  \n 
URL:https://www.mapledalecc.com/event/dining-room-closed/2030-04-29/
END:VEVENT
BEGIN:VEVENT
DTSTART;TZID=America/New_York:20300506T000000
DTEND;TZID=America/New_York:20300506T000000
DTSTAMP:20260420T183833
CREATED:20241001T203438Z
LAST-MODIFIED:20260331T204152Z
UID:10006888-1904256000-1904256000@www.mapledalecc.com
SUMMARY:Dining Room Closed
DESCRIPTION:No food service on Mondays or Tuesdays during the winter months. \n  \n 
URL:https://www.mapledalecc.com/event/dining-room-closed/2030-05-06/
END:VEVENT
BEGIN:VEVENT
DTSTART;TZID=America/New_York:20300513T000000
DTEND;TZID=America/New_York:20300513T000000
DTSTAMP:20260420T183833
CREATED:20241001T203438Z
LAST-MODIFIED:20260331T204152Z
UID:10006890-1904860800-1904860800@www.mapledalecc.com
SUMMARY:Dining Room Closed
DESCRIPTION:No food service on Mondays or Tuesdays during the winter months. \n  \n 
URL:https://www.mapledalecc.com/event/dining-room-closed/2030-05-13/
END:VEVENT
BEGIN:VEVENT
DTSTART;TZID=America/New_York:20300520T000000
DTEND;TZID=America/New_York:20300520T000000
DTSTAMP:20260420T183833
CREATED:20241001T203438Z
LAST-MODIFIED:20260331T204152Z
UID:10006892-1905465600-1905465600@www.mapledalecc.com
SUMMARY:Dining Room Closed
DESCRIPTION:No food service on Mondays or Tuesdays during the winter months. \n  \n 
URL:https://www.mapledalecc.com/event/dining-room-closed/2030-05-20/
END:VEVENT
BEGIN:VEVENT
DTSTART;TZID=America/New_York:20300527T000000
DTEND;TZID=America/New_York:20300527T000000
DTSTAMP:20260420T183833
CREATED:20241001T203438Z
LAST-MODIFIED:20260331T204152Z
UID:10006894-1906070400-1906070400@www.mapledalecc.com
SUMMARY:Dining Room Closed
DESCRIPTION:No food service on Mondays or Tuesdays during the winter months. \n  \n 
URL:https://www.mapledalecc.com/event/dining-room-closed/2030-05-27/
END:VEVENT
BEGIN:VEVENT
DTSTART;TZID=America/New_York:20300603T000000
DTEND;TZID=America/New_York:20300603T000000
DTSTAMP:20260420T183833
CREATED:20241001T203438Z
LAST-MODIFIED:20260331T204152Z
UID:10006896-1906675200-1906675200@www.mapledalecc.com
SUMMARY:Dining Room Closed
DESCRIPTION:No food service on Mondays or Tuesdays during the winter months. \n  \n 
URL:https://www.mapledalecc.com/event/dining-room-closed/2030-06-03/
END:VEVENT
BEGIN:VEVENT
DTSTART;TZID=America/New_York:20300610T000000
DTEND;TZID=America/New_York:20300610T000000
DTSTAMP:20260420T183833
CREATED:20241001T203438Z
LAST-MODIFIED:20260331T204152Z
UID:10006898-1907280000-1907280000@www.mapledalecc.com
SUMMARY:Dining Room Closed
DESCRIPTION:No food service on Mondays or Tuesdays during the winter months. \n  \n 
URL:https://www.mapledalecc.com/event/dining-room-closed/2030-06-10/
END:VEVENT
BEGIN:VEVENT
DTSTART;TZID=America/New_York:20300617T000000
DTEND;TZID=America/New_York:20300617T000000
DTSTAMP:20260420T183833
CREATED:20241001T203438Z
LAST-MODIFIED:20260331T204152Z
UID:10006900-1907884800-1907884800@www.mapledalecc.com
SUMMARY:Dining Room Closed
DESCRIPTION:No food service on Mondays or Tuesdays during the winter months. \n  \n 
URL:https://www.mapledalecc.com/event/dining-room-closed/2030-06-17/
END:VEVENT
BEGIN:VEVENT
DTSTART;TZID=America/New_York:20300624T000000
DTEND;TZID=America/New_York:20300624T000000
DTSTAMP:20260420T183833
CREATED:20241001T203438Z
LAST-MODIFIED:20260331T204152Z
UID:10006902-1908489600-1908489600@www.mapledalecc.com
SUMMARY:Dining Room Closed
DESCRIPTION:No food service on Mondays or Tuesdays during the winter months. \n  \n 
URL:https://www.mapledalecc.com/event/dining-room-closed/2030-06-24/
END:VEVENT
BEGIN:VEVENT
DTSTART;TZID=America/New_York:20300701T000000
DTEND;TZID=America/New_York:20300701T000000
DTSTAMP:20260420T183833
CREATED:20241001T203438Z
LAST-MODIFIED:20260331T204152Z
UID:10006904-1909094400-1909094400@www.mapledalecc.com
SUMMARY:Dining Room Closed
DESCRIPTION:No food service on Mondays or Tuesdays during the winter months. \n  \n 
URL:https://www.mapledalecc.com/event/dining-room-closed/2030-07-01/
END:VEVENT
BEGIN:VEVENT
DTSTART;TZID=America/New_York:20300708T000000
DTEND;TZID=America/New_York:20300708T000000
DTSTAMP:20260420T183833
CREATED:20241001T203438Z
LAST-MODIFIED:20260331T204152Z
UID:10006906-1909699200-1909699200@www.mapledalecc.com
SUMMARY:Dining Room Closed
DESCRIPTION:No food service on Mondays or Tuesdays during the winter months. \n  \n 
URL:https://www.mapledalecc.com/event/dining-room-closed/2030-07-08/
END:VEVENT
BEGIN:VEVENT
DTSTART;TZID=America/New_York:20300715T000000
DTEND;TZID=America/New_York:20300715T000000
DTSTAMP:20260420T183833
CREATED:20241001T203438Z
LAST-MODIFIED:20260331T204152Z
UID:10006908-1910304000-1910304000@www.mapledalecc.com
SUMMARY:Dining Room Closed
DESCRIPTION:No food service on Mondays or Tuesdays during the winter months. \n  \n 
URL:https://www.mapledalecc.com/event/dining-room-closed/2030-07-15/
END:VEVENT
BEGIN:VEVENT
DTSTART;TZID=America/New_York:20300722T000000
DTEND;TZID=America/New_York:20300722T000000
DTSTAMP:20260420T183833
CREATED:20241001T203438Z
LAST-MODIFIED:20260331T204152Z
UID:10006910-1910908800-1910908800@www.mapledalecc.com
SUMMARY:Dining Room Closed
DESCRIPTION:No food service on Mondays or Tuesdays during the winter months. \n  \n 
URL:https://www.mapledalecc.com/event/dining-room-closed/2030-07-22/
END:VEVENT
BEGIN:VEVENT
DTSTART;TZID=America/New_York:20300729T000000
DTEND;TZID=America/New_York:20300729T000000
DTSTAMP:20260420T183833
CREATED:20241001T203438Z
LAST-MODIFIED:20260331T204152Z
UID:10006912-1911513600-1911513600@www.mapledalecc.com
SUMMARY:Dining Room Closed
DESCRIPTION:No food service on Mondays or Tuesdays during the winter months. \n  \n 
URL:https://www.mapledalecc.com/event/dining-room-closed/2030-07-29/
END:VEVENT
BEGIN:VEVENT
DTSTART;TZID=America/New_York:20300805T000000
DTEND;TZID=America/New_York:20300805T000000
DTSTAMP:20260420T183833
CREATED:20241001T203438Z
LAST-MODIFIED:20260331T204152Z
UID:10006914-1912118400-1912118400@www.mapledalecc.com
SUMMARY:Dining Room Closed
DESCRIPTION:No food service on Mondays or Tuesdays during the winter months. \n  \n 
URL:https://www.mapledalecc.com/event/dining-room-closed/2030-08-05/
END:VEVENT
BEGIN:VEVENT
DTSTART;TZID=America/New_York:20300812T000000
DTEND;TZID=America/New_York:20300812T000000
DTSTAMP:20260420T183833
CREATED:20241001T203438Z
LAST-MODIFIED:20260331T204152Z
UID:10006916-1912723200-1912723200@www.mapledalecc.com
SUMMARY:Dining Room Closed
DESCRIPTION:No food service on Mondays or Tuesdays during the winter months. \n  \n 
URL:https://www.mapledalecc.com/event/dining-room-closed/2030-08-12/
END:VEVENT
BEGIN:VEVENT
DTSTART;TZID=America/New_York:20300819T000000
DTEND;TZID=America/New_York:20300819T000000
DTSTAMP:20260420T183833
CREATED:20241001T203438Z
LAST-MODIFIED:20260331T204152Z
UID:10006918-1913328000-1913328000@www.mapledalecc.com
SUMMARY:Dining Room Closed
DESCRIPTION:No food service on Mondays or Tuesdays during the winter months. \n  \n 
URL:https://www.mapledalecc.com/event/dining-room-closed/2030-08-19/
END:VEVENT
BEGIN:VEVENT
DTSTART;TZID=America/New_York:20300826T000000
DTEND;TZID=America/New_York:20300826T000000
DTSTAMP:20260420T183833
CREATED:20241001T203438Z
LAST-MODIFIED:20260331T204152Z
UID:10006920-1913932800-1913932800@www.mapledalecc.com
SUMMARY:Dining Room Closed
DESCRIPTION:No food service on Mondays or Tuesdays during the winter months. \n  \n 
URL:https://www.mapledalecc.com/event/dining-room-closed/2030-08-26/
END:VEVENT
BEGIN:VEVENT
DTSTART;TZID=America/New_York:20300902T000000
DTEND;TZID=America/New_York:20300902T000000
DTSTAMP:20260420T183833
CREATED:20241001T203438Z
LAST-MODIFIED:20260331T204152Z
UID:10006922-1914537600-1914537600@www.mapledalecc.com
SUMMARY:Dining Room Closed
DESCRIPTION:No food service on Mondays or Tuesdays during the winter months. \n  \n 
URL:https://www.mapledalecc.com/event/dining-room-closed/2030-09-02/
END:VEVENT
BEGIN:VEVENT
DTSTART;TZID=America/New_York:20300909T000000
DTEND;TZID=America/New_York:20300909T000000
DTSTAMP:20260420T183833
CREATED:20241001T203438Z
LAST-MODIFIED:20260331T204152Z
UID:10006924-1915142400-1915142400@www.mapledalecc.com
SUMMARY:Dining Room Closed
DESCRIPTION:No food service on Mondays or Tuesdays during the winter months. \n  \n 
URL:https://www.mapledalecc.com/event/dining-room-closed/2030-09-09/
END:VEVENT
BEGIN:VEVENT
DTSTART;TZID=America/New_York:20300916T000000
DTEND;TZID=America/New_York:20300916T000000
DTSTAMP:20260420T183833
CREATED:20241001T203438Z
LAST-MODIFIED:20260331T204152Z
UID:10006926-1915747200-1915747200@www.mapledalecc.com
SUMMARY:Dining Room Closed
DESCRIPTION:No food service on Mondays or Tuesdays during the winter months. \n  \n 
URL:https://www.mapledalecc.com/event/dining-room-closed/2030-09-16/
END:VEVENT
BEGIN:VEVENT
DTSTART;TZID=America/New_York:20300923T000000
DTEND;TZID=America/New_York:20300923T000000
DTSTAMP:20260420T183833
CREATED:20241001T203438Z
LAST-MODIFIED:20260331T204152Z
UID:10006928-1916352000-1916352000@www.mapledalecc.com
SUMMARY:Dining Room Closed
DESCRIPTION:No food service on Mondays or Tuesdays during the winter months. \n  \n 
URL:https://www.mapledalecc.com/event/dining-room-closed/2030-09-23/
END:VEVENT
BEGIN:VEVENT
DTSTART;TZID=America/New_York:20300930T000000
DTEND;TZID=America/New_York:20300930T000000
DTSTAMP:20260420T183833
CREATED:20241001T203438Z
LAST-MODIFIED:20260331T204152Z
UID:10006930-1916956800-1916956800@www.mapledalecc.com
SUMMARY:Dining Room Closed
DESCRIPTION:No food service on Mondays or Tuesdays during the winter months. \n  \n 
URL:https://www.mapledalecc.com/event/dining-room-closed/2030-09-30/
END:VEVENT
BEGIN:VEVENT
DTSTART;TZID=America/New_York:20301007T000000
DTEND;TZID=America/New_York:20301007T000000
DTSTAMP:20260420T183833
CREATED:20241001T203438Z
LAST-MODIFIED:20260331T204152Z
UID:10006932-1917561600-1917561600@www.mapledalecc.com
SUMMARY:Dining Room Closed
DESCRIPTION:No food service on Mondays or Tuesdays during the winter months. \n  \n 
URL:https://www.mapledalecc.com/event/dining-room-closed/2030-10-07/
END:VEVENT
BEGIN:VEVENT
DTSTART;TZID=America/New_York:20301014T000000
DTEND;TZID=America/New_York:20301014T000000
DTSTAMP:20260420T183833
CREATED:20241001T203438Z
LAST-MODIFIED:20260331T204152Z
UID:10006934-1918166400-1918166400@www.mapledalecc.com
SUMMARY:Dining Room Closed
DESCRIPTION:No food service on Mondays or Tuesdays during the winter months. \n  \n 
URL:https://www.mapledalecc.com/event/dining-room-closed/2030-10-14/
END:VEVENT
END:VCALENDAR