BEGIN:VCALENDAR
VERSION:2.0
PRODID:-//Maple Dale County Club - ECPv6.15.18//NONSGML v1.0//EN
CALSCALE:GREGORIAN
METHOD:PUBLISH
X-ORIGINAL-URL:https://www.mapledalecc.com
X-WR-CALDESC:Events for Maple Dale County Club
REFRESH-INTERVAL;VALUE=DURATION:PT1H
X-Robots-Tag:noindex
X-PUBLISHED-TTL:PT1H
BEGIN:VTIMEZONE
TZID:America/New_York
BEGIN:DAYLIGHT
TZOFFSETFROM:-0500
TZOFFSETTO:-0400
TZNAME:EDT
DTSTART:20270314T070000
END:DAYLIGHT
BEGIN:STANDARD
TZOFFSETFROM:-0400
TZOFFSETTO:-0500
TZNAME:EST
DTSTART:20271107T060000
END:STANDARD
BEGIN:DAYLIGHT
TZOFFSETFROM:-0500
TZOFFSETTO:-0400
TZNAME:EDT
DTSTART:20280312T070000
END:DAYLIGHT
BEGIN:STANDARD
TZOFFSETFROM:-0400
TZOFFSETTO:-0500
TZNAME:EST
DTSTART:20281105T060000
END:STANDARD
BEGIN:DAYLIGHT
TZOFFSETFROM:-0500
TZOFFSETTO:-0400
TZNAME:EDT
DTSTART:20290311T070000
END:DAYLIGHT
BEGIN:STANDARD
TZOFFSETFROM:-0400
TZOFFSETTO:-0500
TZNAME:EST
DTSTART:20291104T060000
END:STANDARD
BEGIN:DAYLIGHT
TZOFFSETFROM:-0500
TZOFFSETTO:-0400
TZNAME:EDT
DTSTART:20300310T070000
END:DAYLIGHT
BEGIN:STANDARD
TZOFFSETFROM:-0400
TZOFFSETTO:-0500
TZNAME:EST
DTSTART:20301103T060000
END:STANDARD
END:VTIMEZONE
BEGIN:VEVENT
DTSTART;TZID=America/New_York:20280812T160000
DTEND;TZID=America/New_York:20280812T210000
DTSTAMP:20260421T104543
CREATED:20250402T163840Z
LAST-MODIFIED:20250402T164016Z
UID:10005674-1849708800-1849726800@www.mapledalecc.com
SUMMARY:Dinner Available - Saturday
DESCRIPTION:
URL:https://www.mapledalecc.com/event/dinner-available-saturdays/2028-08-12/
END:VEVENT
BEGIN:VEVENT
DTSTART;TZID=America/New_York:20280819T160000
DTEND;TZID=America/New_York:20280819T210000
DTSTAMP:20260421T104543
CREATED:20250402T163840Z
LAST-MODIFIED:20250402T164016Z
UID:10005675-1850313600-1850331600@www.mapledalecc.com
SUMMARY:Dinner Available - Saturday
DESCRIPTION:
URL:https://www.mapledalecc.com/event/dinner-available-saturdays/2028-08-19/
END:VEVENT
BEGIN:VEVENT
DTSTART;TZID=America/New_York:20280826T160000
DTEND;TZID=America/New_York:20280826T210000
DTSTAMP:20260421T104543
CREATED:20250402T163840Z
LAST-MODIFIED:20250402T164016Z
UID:10005676-1850918400-1850936400@www.mapledalecc.com
SUMMARY:Dinner Available - Saturday
DESCRIPTION:
URL:https://www.mapledalecc.com/event/dinner-available-saturdays/2028-08-26/
END:VEVENT
BEGIN:VEVENT
DTSTART;TZID=America/New_York:20280902T160000
DTEND;TZID=America/New_York:20280902T210000
DTSTAMP:20260421T104543
CREATED:20250402T163840Z
LAST-MODIFIED:20250402T164016Z
UID:10005677-1851523200-1851541200@www.mapledalecc.com
SUMMARY:Dinner Available - Saturday
DESCRIPTION:
URL:https://www.mapledalecc.com/event/dinner-available-saturdays/2028-09-02/
END:VEVENT
BEGIN:VEVENT
DTSTART;TZID=America/New_York:20280909T160000
DTEND;TZID=America/New_York:20280909T210000
DTSTAMP:20260421T104543
CREATED:20250402T163840Z
LAST-MODIFIED:20250402T164016Z
UID:10005678-1852128000-1852146000@www.mapledalecc.com
SUMMARY:Dinner Available - Saturday
DESCRIPTION:
URL:https://www.mapledalecc.com/event/dinner-available-saturdays/2028-09-09/
END:VEVENT
BEGIN:VEVENT
DTSTART;TZID=America/New_York:20280916T160000
DTEND;TZID=America/New_York:20280916T210000
DTSTAMP:20260421T104543
CREATED:20250402T163840Z
LAST-MODIFIED:20250402T164016Z
UID:10005679-1852732800-1852750800@www.mapledalecc.com
SUMMARY:Dinner Available - Saturday
DESCRIPTION:
URL:https://www.mapledalecc.com/event/dinner-available-saturdays/2028-09-16/
END:VEVENT
BEGIN:VEVENT
DTSTART;TZID=America/New_York:20280923T160000
DTEND;TZID=America/New_York:20280923T210000
DTSTAMP:20260421T104543
CREATED:20250402T163840Z
LAST-MODIFIED:20250402T164016Z
UID:10005680-1853337600-1853355600@www.mapledalecc.com
SUMMARY:Dinner Available - Saturday
DESCRIPTION:
URL:https://www.mapledalecc.com/event/dinner-available-saturdays/2028-09-23/
END:VEVENT
BEGIN:VEVENT
DTSTART;TZID=America/New_York:20280930T160000
DTEND;TZID=America/New_York:20280930T210000
DTSTAMP:20260421T104543
CREATED:20250402T163840Z
LAST-MODIFIED:20250402T164016Z
UID:10005681-1853942400-1853960400@www.mapledalecc.com
SUMMARY:Dinner Available - Saturday
DESCRIPTION:
URL:https://www.mapledalecc.com/event/dinner-available-saturdays/2028-09-30/
END:VEVENT
BEGIN:VEVENT
DTSTART;TZID=America/New_York:20281007T160000
DTEND;TZID=America/New_York:20281007T210000
DTSTAMP:20260421T104543
CREATED:20250402T163840Z
LAST-MODIFIED:20250402T164016Z
UID:10005682-1854547200-1854565200@www.mapledalecc.com
SUMMARY:Dinner Available - Saturday
DESCRIPTION:
URL:https://www.mapledalecc.com/event/dinner-available-saturdays/2028-10-07/
END:VEVENT
BEGIN:VEVENT
DTSTART;TZID=America/New_York:20281014T160000
DTEND;TZID=America/New_York:20281014T210000
DTSTAMP:20260421T104543
CREATED:20250402T163840Z
LAST-MODIFIED:20250402T164016Z
UID:10005683-1855152000-1855170000@www.mapledalecc.com
SUMMARY:Dinner Available - Saturday
DESCRIPTION:
URL:https://www.mapledalecc.com/event/dinner-available-saturdays/2028-10-14/
END:VEVENT
BEGIN:VEVENT
DTSTART;TZID=America/New_York:20281021T160000
DTEND;TZID=America/New_York:20281021T210000
DTSTAMP:20260421T104543
CREATED:20250402T163840Z
LAST-MODIFIED:20250402T164016Z
UID:10005684-1855756800-1855774800@www.mapledalecc.com
SUMMARY:Dinner Available - Saturday
DESCRIPTION:
URL:https://www.mapledalecc.com/event/dinner-available-saturdays/2028-10-21/
END:VEVENT
BEGIN:VEVENT
DTSTART;TZID=America/New_York:20281028T160000
DTEND;TZID=America/New_York:20281028T210000
DTSTAMP:20260421T104543
CREATED:20250402T163840Z
LAST-MODIFIED:20250402T164016Z
UID:10005685-1856361600-1856379600@www.mapledalecc.com
SUMMARY:Dinner Available - Saturday
DESCRIPTION:
URL:https://www.mapledalecc.com/event/dinner-available-saturdays/2028-10-28/
END:VEVENT
BEGIN:VEVENT
DTSTART;TZID=America/New_York:20281104T160000
DTEND;TZID=America/New_York:20281104T210000
DTSTAMP:20260421T104543
CREATED:20250402T163840Z
LAST-MODIFIED:20250402T164016Z
UID:10005686-1856966400-1856984400@www.mapledalecc.com
SUMMARY:Dinner Available - Saturday
DESCRIPTION:
URL:https://www.mapledalecc.com/event/dinner-available-saturdays/2028-11-04/
END:VEVENT
BEGIN:VEVENT
DTSTART;TZID=America/New_York:20281111T160000
DTEND;TZID=America/New_York:20281111T210000
DTSTAMP:20260421T104543
CREATED:20250402T163840Z
LAST-MODIFIED:20250402T164016Z
UID:10005687-1857571200-1857589200@www.mapledalecc.com
SUMMARY:Dinner Available - Saturday
DESCRIPTION:
URL:https://www.mapledalecc.com/event/dinner-available-saturdays/2028-11-11/
END:VEVENT
BEGIN:VEVENT
DTSTART;TZID=America/New_York:20281118T160000
DTEND;TZID=America/New_York:20281118T210000
DTSTAMP:20260421T104543
CREATED:20250402T163840Z
LAST-MODIFIED:20250402T164016Z
UID:10005688-1858176000-1858194000@www.mapledalecc.com
SUMMARY:Dinner Available - Saturday
DESCRIPTION:
URL:https://www.mapledalecc.com/event/dinner-available-saturdays/2028-11-18/
END:VEVENT
BEGIN:VEVENT
DTSTART;TZID=America/New_York:20281125T160000
DTEND;TZID=America/New_York:20281125T210000
DTSTAMP:20260421T104543
CREATED:20250402T163840Z
LAST-MODIFIED:20250402T164016Z
UID:10005689-1858780800-1858798800@www.mapledalecc.com
SUMMARY:Dinner Available - Saturday
DESCRIPTION:
URL:https://www.mapledalecc.com/event/dinner-available-saturdays/2028-11-25/
END:VEVENT
BEGIN:VEVENT
DTSTART;TZID=America/New_York:20281202T160000
DTEND;TZID=America/New_York:20281202T210000
DTSTAMP:20260421T104543
CREATED:20250402T163840Z
LAST-MODIFIED:20250402T164016Z
UID:10005690-1859385600-1859403600@www.mapledalecc.com
SUMMARY:Dinner Available - Saturday
DESCRIPTION:
URL:https://www.mapledalecc.com/event/dinner-available-saturdays/2028-12-02/
END:VEVENT
BEGIN:VEVENT
DTSTART;TZID=America/New_York:20281209T160000
DTEND;TZID=America/New_York:20281209T210000
DTSTAMP:20260421T104543
CREATED:20250402T163840Z
LAST-MODIFIED:20250402T164016Z
UID:10005691-1859990400-1860008400@www.mapledalecc.com
SUMMARY:Dinner Available - Saturday
DESCRIPTION:
URL:https://www.mapledalecc.com/event/dinner-available-saturdays/2028-12-09/
END:VEVENT
BEGIN:VEVENT
DTSTART;TZID=America/New_York:20281216T160000
DTEND;TZID=America/New_York:20281216T210000
DTSTAMP:20260421T104543
CREATED:20250402T163840Z
LAST-MODIFIED:20250402T164016Z
UID:10005692-1860595200-1860613200@www.mapledalecc.com
SUMMARY:Dinner Available - Saturday
DESCRIPTION:
URL:https://www.mapledalecc.com/event/dinner-available-saturdays/2028-12-16/
END:VEVENT
BEGIN:VEVENT
DTSTART;TZID=America/New_York:20281223T160000
DTEND;TZID=America/New_York:20281223T210000
DTSTAMP:20260421T104543
CREATED:20250402T163840Z
LAST-MODIFIED:20250402T164016Z
UID:10005693-1861200000-1861218000@www.mapledalecc.com
SUMMARY:Dinner Available - Saturday
DESCRIPTION:
URL:https://www.mapledalecc.com/event/dinner-available-saturdays/2028-12-23/
END:VEVENT
BEGIN:VEVENT
DTSTART;TZID=America/New_York:20281230T160000
DTEND;TZID=America/New_York:20281230T210000
DTSTAMP:20260421T104543
CREATED:20250402T163840Z
LAST-MODIFIED:20250402T164016Z
UID:10005694-1861804800-1861822800@www.mapledalecc.com
SUMMARY:Dinner Available - Saturday
DESCRIPTION:
URL:https://www.mapledalecc.com/event/dinner-available-saturdays/2028-12-30/
END:VEVENT
BEGIN:VEVENT
DTSTART;TZID=America/New_York:20290106T160000
DTEND;TZID=America/New_York:20290106T210000
DTSTAMP:20260421T104543
CREATED:20250402T163840Z
LAST-MODIFIED:20250402T164016Z
UID:10005695-1862409600-1862427600@www.mapledalecc.com
SUMMARY:Dinner Available - Saturday
DESCRIPTION:
URL:https://www.mapledalecc.com/event/dinner-available-saturdays/2029-01-06/
END:VEVENT
BEGIN:VEVENT
DTSTART;TZID=America/New_York:20290113T160000
DTEND;TZID=America/New_York:20290113T210000
DTSTAMP:20260421T104543
CREATED:20250402T163840Z
LAST-MODIFIED:20250402T164016Z
UID:10005696-1863014400-1863032400@www.mapledalecc.com
SUMMARY:Dinner Available - Saturday
DESCRIPTION:
URL:https://www.mapledalecc.com/event/dinner-available-saturdays/2029-01-13/
END:VEVENT
BEGIN:VEVENT
DTSTART;TZID=America/New_York:20290120T160000
DTEND;TZID=America/New_York:20290120T210000
DTSTAMP:20260421T104543
CREATED:20250402T163840Z
LAST-MODIFIED:20250402T164016Z
UID:10005697-1863619200-1863637200@www.mapledalecc.com
SUMMARY:Dinner Available - Saturday
DESCRIPTION:
URL:https://www.mapledalecc.com/event/dinner-available-saturdays/2029-01-20/
END:VEVENT
BEGIN:VEVENT
DTSTART;TZID=America/New_York:20290127T160000
DTEND;TZID=America/New_York:20290127T210000
DTSTAMP:20260421T104543
CREATED:20250402T163840Z
LAST-MODIFIED:20250402T164016Z
UID:10005698-1864224000-1864242000@www.mapledalecc.com
SUMMARY:Dinner Available - Saturday
DESCRIPTION:
URL:https://www.mapledalecc.com/event/dinner-available-saturdays/2029-01-27/
END:VEVENT
BEGIN:VEVENT
DTSTART;TZID=America/New_York:20290203T160000
DTEND;TZID=America/New_York:20290203T210000
DTSTAMP:20260421T104543
CREATED:20250402T163840Z
LAST-MODIFIED:20250402T164016Z
UID:10005699-1864828800-1864846800@www.mapledalecc.com
SUMMARY:Dinner Available - Saturday
DESCRIPTION:
URL:https://www.mapledalecc.com/event/dinner-available-saturdays/2029-02-03/
END:VEVENT
BEGIN:VEVENT
DTSTART;TZID=America/New_York:20290210T160000
DTEND;TZID=America/New_York:20290210T210000
DTSTAMP:20260421T104543
CREATED:20250402T163840Z
LAST-MODIFIED:20250402T164016Z
UID:10005700-1865433600-1865451600@www.mapledalecc.com
SUMMARY:Dinner Available - Saturday
DESCRIPTION:
URL:https://www.mapledalecc.com/event/dinner-available-saturdays/2029-02-10/
END:VEVENT
BEGIN:VEVENT
DTSTART;TZID=America/New_York:20290217T160000
DTEND;TZID=America/New_York:20290217T210000
DTSTAMP:20260421T104543
CREATED:20250402T163840Z
LAST-MODIFIED:20250402T164016Z
UID:10005701-1866038400-1866056400@www.mapledalecc.com
SUMMARY:Dinner Available - Saturday
DESCRIPTION:
URL:https://www.mapledalecc.com/event/dinner-available-saturdays/2029-02-17/
END:VEVENT
BEGIN:VEVENT
DTSTART;TZID=America/New_York:20290224T160000
DTEND;TZID=America/New_York:20290224T210000
DTSTAMP:20260421T104543
CREATED:20250402T163840Z
LAST-MODIFIED:20250402T164016Z
UID:10005702-1866643200-1866661200@www.mapledalecc.com
SUMMARY:Dinner Available - Saturday
DESCRIPTION:
URL:https://www.mapledalecc.com/event/dinner-available-saturdays/2029-02-24/
END:VEVENT
BEGIN:VEVENT
DTSTART;TZID=America/New_York:20290303T160000
DTEND;TZID=America/New_York:20290303T210000
DTSTAMP:20260421T104543
CREATED:20250402T163840Z
LAST-MODIFIED:20250402T164016Z
UID:10005703-1867248000-1867266000@www.mapledalecc.com
SUMMARY:Dinner Available - Saturday
DESCRIPTION:
URL:https://www.mapledalecc.com/event/dinner-available-saturdays/2029-03-03/
END:VEVENT
END:VCALENDAR